BEGIN:VCALENDAR
VERSION:2.0
PRODID:-//wp-events-plugin.com//5.99912//EN
TZID:Europe/Berlin
X-WR-TIMEZONE:Europe/Berlin
BEGIN:VEVENT
UID:62875@punkt-linden.de
DTSTART;TZID=Europe/Berlin:20260424T140000
DTEND;TZID=Europe/Berlin:20260424T235900
DTSTAMP:20260422T103236Z
URL:https://punkt-linden.de/termine/kunst-im-keller-das-grosse-krabbeln-bu
 nd-fotoausstellung-zur-intraregionale-2026/
SUMMARY:KUNST IM KELLER: DAS GROSSE KRABBELN - BUND-Fotoausstellung zur Int
 raRegionale 2026
DESCRIPTION:Unsere kleine Galerie „Kunst im Keller“ zeigt neue Bilder -
  dieses Mal von Insekten!\n\nIm Rahmen der IntraRegionale 2026\, die sich 
 auf vielfältige Weise mit dem Thema Insekten befasst\, hat die AG Naturfo
 tografie des BUND Region Hannover für das Freizeitheim ganz besondere Bil
 der von Insekten ausgewählt.\nDie Bedeutung dieser kleinen Lebewesen ist 
 für unser eigenes Überleben kaum zu überschätzen - lassen wir uns von 
 der Schönheit und Einzigartigkeit unserer heimischen Insekten faszinieren
 !
ATTACH;FMTTYPE=image/jpeg:https://punkt-linden.de/wp-content/uploads/2026/
 04/DasGrosseKrabbeln_CR_AnneMarquard.jpg
CATEGORIES:Ausstellung
LOCATION:Freizeitheim Linden\, Windheimstraße 4\, Hannover\, Niedersachsen
 \, 30451\, Deutschland
GEO:52.375006;9.700013
X-APPLE-STRUCTURED-LOCATION;VALUE=URI;X-ADDRESS=Windheimstraße 4\, Hannove
 r\, Niedersachsen\, 30451\, Deutschland;X-APPLE-RADIUS=100;X-TITLE=Freizei
 theim Linden:geo:52.375006,9.700013
END:VEVENT
BEGIN:VTIMEZONE
TZID:Europe/Berlin
X-LIC-LOCATION:Europe/Berlin
BEGIN:DAYLIGHT
DTSTART:20260329T030000
TZOFFSETFROM:+0100
TZOFFSETTO:+0200
TZNAME:CEST
END:DAYLIGHT
END:VTIMEZONE
END:VCALENDAR