BEGIN:VCALENDAR
VERSION:2.0
PRODID:-//wp-events-plugin.com//5.99912//EN
TZID:Europe/Berlin
X-WR-TIMEZONE:Europe/Berlin
BEGIN:VEVENT
UID:60483@punkt-linden.de
DTSTART;TZID=Europe/Berlin:20250918T180000
DTEND;TZID=Europe/Berlin:20250918T235900
DTSTAMP:20250828T125703Z
URL:https://punkt-linden.de/termine/kulturhafen-flohmarkt/
SUMMARY:Kulturhafen Flohmarkt
DESCRIPTION:Der zweite Kulturhafen-Flohmarkt 2025\, diesmal als Afterwork v
 on 18-22 Uhr. Dazu gibt es ein musikalisches Rahmenprogramm\, Drinks und l
 eckere Pizza.\nDu möchtest gerne Klamotten\, Schallplatten oder Trödel l
 oswerden? Dann schreib uns eine Mail mit deinem Platzbedarf an flohmarkt@k
 ulturhafen-hannover.de. Der Stand ist kostenlos\, Tische müssen selbst mi
 tgebracht werden. 
CATEGORIES:Markt, Flohmarkt
LOCATION:Kulturhafen e.V.\, Eichenbrink 5b\, Hannover\, 30453\, Deutschland
GEO:52.374393;9.687918
X-APPLE-STRUCTURED-LOCATION;VALUE=URI;X-ADDRESS=Eichenbrink 5b\, Hannover\,
  30453\, Deutschland;X-APPLE-RADIUS=100;X-TITLE=Kulturhafen e.V.:geo:52.37
 4393,9.687918
END:VEVENT
BEGIN:VTIMEZONE
TZID:Europe/Berlin
X-LIC-LOCATION:Europe/Berlin
BEGIN:DAYLIGHT
DTSTART:20250330T030000
TZOFFSETFROM:+0100
TZOFFSETTO:+0200
TZNAME:CEST
END:DAYLIGHT
END:VTIMEZONE
END:VCALENDAR