BEGIN:VCALENDAR
VERSION:2.0
PRODID:-//wp-events-plugin.com//5.99912//EN
TZID:Europe/Berlin
X-WR-TIMEZONE:Europe/Berlin
BEGIN:VEVENT
UID:60423@punkt-linden.de
DTSTART;TZID=Europe/Berlin:20250907T200000
DTEND;TZID=Europe/Berlin:20250907T235900
DTSTAMP:20250822T114704Z
URL:https://punkt-linden.de/termine/kraftvolle-live-performance-konzertrei
 he-sirup-praesentiert-hazeevot/
SUMMARY:Kraftvolle Live-Performance:  Konzertreihe Sirup präsentiert Haze
 ‘evot
DESCRIPTION:Mit Sirup startet kargah eine neue Konzertreihe\, die musikalis
 che Grenzen verschwimmen lässt und Female* Artists in den Fokus rückt. N
 ach dem erfolgreichen Auftakt der Reihe im Rahmen der Sommernächte in den
  Herrenhäuser Gärten wird nun der nächste spannende Female* Act präsen
 tiert.\n\nAm Sonntag erobert die Independent-Band Haze‘evot die Bühne i
 m Kulturzentrum Faust. Sie verbinden Indie\, Rock n‘ Roll und Funk\, beg
 leitet von mutigen und ehrlichen Texten auf Hebräisch. Ihre Musik und Ene
 rgie überwindet Grenzen und bringt ganz verschiedene Menschen zusammen 
 – unabhängig vom Background! Die Auftritte von Haze’evot sind bekannt
  für ihre explosive Energie – ein wildes und lebendiges Rock’n‘Roll
 -Fest\, das kein Publikum kalt lässt. Ein besonderer Live-Act!\n\nIm Zent
 rum steht\, dass Kunst die Wirklichkeit verändern und neue Brücken zwisc
 hen Menschen schlagen kann. Neben ihren musikalischen Aktivitäten fungier
 t die Band als breites Kollektiv kreativer Frauen* aus verschiedensten Ber
 eichen und verfolgt künstlerische\, kulturelle und pädagogische Ziele.\n
 Sie veranstalten Workshops und Kurse für Jugendliche und Erwachsene in ga
 nz Europa. Als Kollektiv produzieren sie den Großteil ihrer Inhalte selbs
 t.
ATTACH;FMTTYPE=image/jpeg:https://punkt-linden.de/wp-content/uploads/2025/
 08/7.9._Hazeevot_Sirup_ReihecEden-Degany-1.jpg
CATEGORIES:Musik, Konzert
LOCATION:Faust - Kulturzentrum\, Zur Bettfedernfabrik 3\, Hannover\, Nieder
 sachsen\, 30451\, Deutschland
GEO:52.375996;9.710547
X-APPLE-STRUCTURED-LOCATION;VALUE=URI;X-ADDRESS=Zur Bettfedernfabrik 3\, Ha
 nnover\, Niedersachsen\, 30451\, Deutschland;X-APPLE-RADIUS=100;X-TITLE=Fa
 ust - Kulturzentrum:geo:52.375996,9.710547
END:VEVENT
BEGIN:VTIMEZONE
TZID:Europe/Berlin
X-LIC-LOCATION:Europe/Berlin
BEGIN:DAYLIGHT
DTSTART:20250330T030000
TZOFFSETFROM:+0100
TZOFFSETTO:+0200
TZNAME:CEST
END:DAYLIGHT
END:VTIMEZONE
END:VCALENDAR