BEGIN:VCALENDAR
VERSION:2.0
PRODID:-//wp-events-plugin.com//5.99912//EN
TZID:Europe/Berlin
X-WR-TIMEZONE:Europe/Berlin
BEGIN:VEVENT
UID:60909@punkt-linden.de
DTSTART;TZID=Europe/Berlin:20251228T100000
DTEND;TZID=Europe/Berlin:20251228T235900
DTSTAMP:20251225T130133Z
URL:https://punkt-linden.de/termine/kostenlose-familientage-im-foessebad-2
 /
SUMMARY:Kostenlose Familientage im Fössebad
DESCRIPTION:Der Förderverein Fössebad lädt ein zum kostenlosen Familient
 ag\n\nKinder unter 14 Jahren (bitte mit Ausweis) mit ihren Eltern sind am 
 Familientag exklusiv zum kostenlosen Besuch des Fössebades eingeladen.\n\
 nAndere Gäste an diesem Termin von 10 bis 17 Uhr keinen Zutritt.
ATTACH;FMTTYPE=image/jpeg:https://punkt-linden.de/wp-content/uploads/2025/
 10/Aqua-Kurs-im-Foessebad.jpg
CATEGORIES:Für Kinder
LOCATION:Fössebad\, Liepmannstraße 7b\, Hannover\, 30453\, Deutschland
GEO:52.37195;9.69636
X-APPLE-STRUCTURED-LOCATION;VALUE=URI;X-ADDRESS=Liepmannstraße 7b\, Hannov
 er\, 30453\, Deutschland;X-APPLE-RADIUS=100;X-TITLE=Fössebad:geo:52.37195
 ,9.69636
END:VEVENT
BEGIN:VTIMEZONE
TZID:Europe/Berlin
X-LIC-LOCATION:Europe/Berlin
BEGIN:STANDARD
DTSTART:20251026T020000
TZOFFSETFROM:+0200
TZOFFSETTO:+0100
TZNAME:CET
END:STANDARD
END:VTIMEZONE
END:VCALENDAR