BEGIN:VCALENDAR
VERSION:2.0
PRODID:-//wp-events-plugin.com//5.99912//EN
TZID:Europe/Berlin
X-WR-TIMEZONE:Europe/Berlin
BEGIN:VEVENT
UID:61322@punkt-linden.de
DTSTART;TZID=Europe/Berlin:20251128T190000
DTEND;TZID=Europe/Berlin:20251128T235900
DTSTAMP:20251125T162518Z
URL:https://punkt-linden.de/termine/konzert-tauben-mit-toshiko-oedland/
SUMMARY:Konzert Tauben mit Toshiko Ödland
DESCRIPTION:Wir freuen uns\, die Tauben aus Hamburg und Toshiko Ödland aus
  Köln zu präsentieren. Eine Mischung aus Rock\, Punkrock und Hamburger S
 chule. Mitorganisiert von der Nordstadtbraut. Einlaß 19 Uhr.\n\nDunkelber
 ggang 10c im Backstage.
ATTACH;FMTTYPE=image/jpeg:https://punkt-linden.de/wp-content/uploads/2025/
 11/inbound1606997407635047342-1.jpg
CATEGORIES:Musik, Konzert
END:VEVENT
BEGIN:VTIMEZONE
TZID:Europe/Berlin
X-LIC-LOCATION:Europe/Berlin
BEGIN:STANDARD
DTSTART:20251026T020000
TZOFFSETFROM:+0200
TZOFFSETTO:+0100
TZNAME:CET
END:STANDARD
END:VTIMEZONE
END:VCALENDAR