BEGIN:VCALENDAR
VERSION:2.0
PRODID:-//wp-events-plugin.com//5.99912//EN
TZID:Europe/Berlin
X-WR-TIMEZONE:Europe/Berlin
BEGIN:VEVENT
UID:59457@punkt-linden.de
DTSTART;TZID=Europe/Berlin:20250504T160000
DTEND;TZID=Europe/Berlin:20250504T235900
DTSTAMP:20250504T094324Z
URL:https://punkt-linden.de/termine/kleinlauschmittel/
SUMMARY:- KleinLauschMittel -
DESCRIPTION:Quartier e.V. lädt zu einer weiteren Elektronic-Sketching-Perf
 ormance von Natalie Deseke in den Küchengartenpavillon ein.\n\nEin weiter
 er Termin ist am 25. Mai um 16 Uhr\, da gibt es zur Finissage ein Gespräc
 h mit der Künstlerin.\n\nDie Ausstellung ist dienstags\, freitags und son
 ntags von 15 bis 17 Uhr geöffnet.\nWir freuen uns auf euren Besuch.\n\nDi
 e Ausstellung wird vom Kulturbüro der Stadt Hannover und der Edelhofstift
 ung in Ricklingen unterstützt.\n
CATEGORIES:Ausstellung
LOCATION:Küchengartenpavillon\, Am Lindener Berge 44\, Hannover\, Niedersa
 chsen\, 30449\, Deutschland
GEO:52.362432;9.703512
X-APPLE-STRUCTURED-LOCATION;VALUE=URI;X-ADDRESS=Am Lindener Berge 44\, Hann
 over\, Niedersachsen\, 30449\, Deutschland;X-APPLE-RADIUS=100;X-TITLE=Küc
 hengartenpavillon:geo:52.362432,9.703512
END:VEVENT
BEGIN:VTIMEZONE
TZID:Europe/Berlin
X-LIC-LOCATION:Europe/Berlin
BEGIN:DAYLIGHT
DTSTART:20250330T030000
TZOFFSETFROM:+0100
TZOFFSETTO:+0200
TZNAME:CEST
END:DAYLIGHT
END:VTIMEZONE
END:VCALENDAR