BEGIN:VCALENDAR
VERSION:2.0
PRODID:-//wp-events-plugin.com//5.99912//EN
TZID:Europe/Berlin
X-WR-TIMEZONE:Europe/Berlin
BEGIN:VEVENT
UID:60356@punkt-linden.de
DTSTART;TZID=Europe/Berlin:20250822T230000
DTEND;TZID=Europe/Berlin:20250822T235900
DTSTAMP:20250814T154804Z
URL:https://punkt-linden.de/termine/king-kong-kicks/
SUMMARY:King Kong Kicks
DESCRIPTION:King Kong kickt in Deinen Club und bringt Dir eine Nacht wie ei
 ne wilde Umarmung\, best friends mit dem Gefühl von Ankommen und Abgehen\
 , tanzende Körper gehüllt in Indie-Pop\, der sich wie ein Fluss im liebe
 vollen Mix ins Herz spült\, es regelrecht überschwemmt. Energetisch\, si
 nnlich\, frei\, denn das mit uns ist nicht mehr normal.\n\nSounds like: En
 nio\, Berq\, Fred Again\, Marlon Hoffstadt\, Dilla\, Giant Rooks\, Edwin R
 osen\, Mando Diao\, Mayberg\, Kasi\, Florence and the machine\, Brutalismu
 s 3000\, Paul Wetz\, Royel Otis\, Paula Carolina\, Bibiza\, Southstar\, Sk
 i Aggu\, Arctic Monkeys\, Blond.
CATEGORIES:Musik, Konzert,Party, Feiern
LOCATION:Faust - 60er-Jahre-Halle\, Zur Bettfedernfabrik 3\, Hannover\, 304
 51\, Deutschland
X-APPLE-STRUCTURED-LOCATION;VALUE=URI;X-ADDRESS=Zur Bettfedernfabrik 3\, Ha
 nnover\, 30451\, Deutschland;X-APPLE-RADIUS=100;X-TITLE=Faust - 60er-Jahre
 -Halle:geo:0,0
END:VEVENT
BEGIN:VTIMEZONE
TZID:Europe/Berlin
X-LIC-LOCATION:Europe/Berlin
BEGIN:DAYLIGHT
DTSTART:20250330T030000
TZOFFSETFROM:+0100
TZOFFSETTO:+0200
TZNAME:CEST
END:DAYLIGHT
END:VTIMEZONE
END:VCALENDAR