BEGIN:VCALENDAR
VERSION:2.0
PRODID:-//wp-events-plugin.com//5.99912//EN
TZID:Europe/Berlin
X-WR-TIMEZONE:Europe/Berlin
BEGIN:VEVENT
UID:60391@punkt-linden.de
DTSTART;TZID=Europe/Berlin:20250921T140000
DTEND;TZID=Europe/Berlin:20250921T235900
DTSTAMP:20250820T123718Z
URL:https://punkt-linden.de/termine/kinderartikel-flohmarkt/
SUMMARY:Kinderartikel-Flohmarkt
DESCRIPTION:Am 21.09.25 findet bei uns im Familienzentrum Bethlehem (Bethle
 hemplatz 1b) wieder ein Kinderartikel-Flohmarkt statt. Ihr findet hier tol
 le Kleidung\, Spielzeug\, Fahrzeuge\, Bücher und vieles mehr. Es gibt ebe
 nso Kaffee und Kuchen\, auch zum Mitnehmen. \nWer selbst gerne einen Stand
  machen möchte\, meldet sich bitte per Telefon an: am 02. &amp\; 03.09.25
  in der Zeit von 11–13 Uhr unter der Tel. Nr. 0511-92399716. \nSchaut g
 erne vorbei!\n
CATEGORIES:Essen, Trinken,Für Kinder,Markt, Flohmarkt
LOCATION:Bethlehem Kindergarten\, Bethlehemplatz 1b\, Hannover\, 30451\, De
 utschland
GEO:52.37281;9.70113
X-APPLE-STRUCTURED-LOCATION;VALUE=URI;X-ADDRESS=Bethlehemplatz 1b\, Hannove
 r\, 30451\, Deutschland;X-APPLE-RADIUS=100;X-TITLE=Bethlehem Kindergarten:
 geo:52.37281,9.70113
END:VEVENT
BEGIN:VTIMEZONE
TZID:Europe/Berlin
X-LIC-LOCATION:Europe/Berlin
BEGIN:DAYLIGHT
DTSTART:20250330T030000
TZOFFSETFROM:+0100
TZOFFSETTO:+0200
TZNAME:CEST
END:DAYLIGHT
END:VTIMEZONE
END:VCALENDAR