BEGIN:VCALENDAR
VERSION:2.0
PRODID:-//wp-events-plugin.com//5.99912//EN
TZID:Europe/Berlin
X-WR-TIMEZONE:Europe/Berlin
BEGIN:VEVENT
UID:60285@punkt-linden.de
DTSTART;TZID=Europe/Berlin:20250921T110000
DTEND;TZID=Europe/Berlin:20250921T235900
DTSTAMP:20250920T070517Z
URL:https://punkt-linden.de/termine/kiezfest-in-limmer-2/
SUMMARY:Kiezfest in Limmer
DESCRIPTION:Kiezfest in Limmer\n\nWeiter geht's: Gemeinsam feiern mit Musik
 \, leckerem Essen\, kalten Getränken\, Krökeln\, Tischtennis\, Bewegungs
 angeboten für Gross &amp\; Klein\, Table-Quiz und Open street Karaoke. Ki
 nder-Sport-Safari &amp\; XXL-Legosteine.\n\nAm Sonntag mit Gottesdienst un
 d Flohmarkt von 11 bis 17 Uhr.
ATTACH;FMTTYPE=image/jpeg:https://punkt-linden.de/wp-content/uploads/2025/
 08/Screenshot_20250812_105120_Instagram.png
CATEGORIES:Essen, Trinken,Für Kinder,Kirche, Religion,Markt,
 Flohmarkt,Musik, Konzert,Party, Feiern
LOCATION:Margarethe-und-Max-Rüdenberg-Platz\, Margarethe-und-Max-Rüdenber
 g-Platz \, Hannover\, Deutschland\, 30453\, Niedersachsen \, Deutschland
GEO:52.377469;9.684447
X-APPLE-STRUCTURED-LOCATION;VALUE=URI;X-ADDRESS=Margarethe-und-Max-Rüdenbe
 rg-Platz \, Hannover\, Deutschland\, 30453\, Niedersachsen \, Deutschland;
 X-APPLE-RADIUS=100;X-TITLE=Margarethe-und-Max-Rüdenberg-Platz:geo:52.3774
 69,9.684447
END:VEVENT
BEGIN:VTIMEZONE
TZID:Europe/Berlin
X-LIC-LOCATION:Europe/Berlin
BEGIN:DAYLIGHT
DTSTART:20250330T030000
TZOFFSETFROM:+0100
TZOFFSETTO:+0200
TZNAME:CEST
END:DAYLIGHT
END:VTIMEZONE
END:VCALENDAR