BEGIN:VCALENDAR
VERSION:2.0
PRODID:-//wp-events-plugin.com//5.99912//EN
TZID:Europe/Berlin
X-WR-TIMEZONE:Europe/Berlin
BEGIN:VEVENT
UID:60001@punkt-linden.de
DTSTART;TZID=Europe/Berlin:20250810T150000
DTEND;TZID=Europe/Berlin:20250810T235900
DTSTAMP:20250707T135952Z
URL:https://punkt-linden.de/termine/karikaturenausstellung-finissage-wenn-
 der-tod-dich-anlacht/
SUMMARY:Karikaturenausstellung-Finissage: Wenn der Tod dich anlacht
DESCRIPTION:Vom 19. Juli bis 10. August 2025 beherbergte metavier die Karik
 aturenausstellung „Wenn der Tod dich anlacht“. Gerade in der Auseinand
 ersetzung mit dem Tod kann Humor helfen\, neue Perspektiven auf diesen una
 usweichlichen Aspekt unseres Daseins zu eröffnen. Die schwarzhumorige Aus
 stellung regt zu einem anderen Umgang mit den Themen Tod und Trauer an. Di
 e ungewöhnlichen Darstellungen der Ausstellung ermöglichen einen anderen
  Umgang zu den häufig mit dem Tod verbundenen Tabus und Ängsten. Die aus
 gestellten Bilder nähern sich dem ernsten Thema auf humorvolle Weise\, um
  Berührungsängste abzubauen und einen leichteren Zugang zu ermöglichen.
  Passend zu den Themen Trauer\, Tod und Sterbebegleitung\, die in den Kari
 katuren aufgegriffen werden\, finden die Besucher in der Bibliothek der Ga
 lerie passende Lektüre zu den Themen Vergänglichkeit und Abschied. Neben
  Romanen\, Sachbüchern und Fachliteratur finden sich auch Ratgeber zum Th
 ema Trauer\, Tod und Vorsorge.\n\nIm Rahme der Finissage ist am Sonntag de
 r hannoversche Autor Tilman Wittenhorst zu Gast bei metavier und präsenti
 ert ab 15 Uhr eine Lesung aus seinem Buch „Das weiß keiner so genau. Ge
 schichten über den Tod“. Der Tod kommt vielfältig in unserem Leben vor
  und Menschen jeden Alters gehen unterschiedlich damit um - die Geschichte
 n in dem Erzählungsband handeln von den stillen\, grotesken und manchmal 
 übersehenen Spielarten des allgegenwärtigen Themas ›Leben und Tod‹\,
  hoffnungsvoll\, ehrlich und sogar humorvoll. Wie greift der Tod in unser 
 Leben ein? Diese Geschichten handeln davon\, wie Menschen dem Tod begegnen
  oder ihm ausweichen. Wie sie mit der verbleibenden Zeit des eigenen Dasei
 ns umgehen oder das Ende eines anderen herbeisehnen. Wie sie Unwiderruflic
 hes zu vergessen oder zu ändern versuchen. 18 Erzählungen und Kurzgeschi
 chten\, die die stillen\, grotesken und manchmal übersehenen Spielarten d
 es allgegenwärtigen Themas ›Leben und Tod‹ betrachten.\n\nDie Ausstel
 lung fand in Kooperation mit dem Hospiz Luise statt und wurde freundlicher
 weise vom Hessischen Ministerium für Soziales und Integration zur Verfüg
 ung gestellt.
ATTACH;FMTTYPE=image/jpeg:https://punkt-linden.de/wp-content/uploads/2025/
 07/Wenn-der-Tod-dich-anlacht.jpeg
CATEGORIES:Ausstellung
LOCATION:metavier – Galerie vom Anfang und Ende\, Minister-Stüve-Straße
  14\, Hannover\, 30449\, Deutschland
X-APPLE-STRUCTURED-LOCATION;VALUE=URI;X-ADDRESS=Minister-Stüve-Straße 14\
 , Hannover\, 30449\, Deutschland;X-APPLE-RADIUS=100;X-TITLE=metavier – G
 alerie vom Anfang und Ende:geo:0,0
END:VEVENT
BEGIN:VTIMEZONE
TZID:Europe/Berlin
X-LIC-LOCATION:Europe/Berlin
BEGIN:DAYLIGHT
DTSTART:20250330T030000
TZOFFSETFROM:+0100
TZOFFSETTO:+0200
TZNAME:CEST
END:DAYLIGHT
END:VTIMEZONE
END:VCALENDAR