BEGIN:VCALENDAR
VERSION:2.0
PRODID:-//wp-events-plugin.com//5.99912//EN
TZID:Europe/Berlin
X-WR-TIMEZONE:Europe/Berlin
BEGIN:VEVENT
UID:62695@punkt-linden.de
DTSTART;TZID=Europe/Berlin:20260416T160000
DTEND;TZID=Europe/Berlin:20260416T235900
DTSTAMP:20260408T181834Z
URL:https://punkt-linden.de/termine/infoabend-house-of-resources/
SUMMARY:Infoabend House of Resources
DESCRIPTION:Ihr habt eine Projekt-Idee\, die lokal und integrativ ist? Ihr 
 möchtet ein kleines Begegnungs- oder Freizeitangebot schaffen\, euch in e
 urer Community vernetzen oder gemeinsam weiterbilden?\nWir informieren euc
 h\, wie ihr genau ein Projekt beantragen könnt. Wir unterstützen euch be
 i Konzeption\, Finanzierung und Durchführung. Das House of Resources Hann
 over bietet eine Mikroprojektförderung von bis zu 500 Euro und begleitet 
 Euch von der Antragstellung bis zur Abrechnung Eures Projekts.\nZusammen g
 eht vieles leichter! Über die finanzielle Förderung hinaus\, vernetzt Eu
 ch das House of Resources mit anderen Engagierten aus den unterschiedlichs
 ten Bereichen oder organisiert Räume und Infrastruktur für Eure Projekte
 .\n\nFür wen?\n\n 	Für migrantische Initiativen und Selbstorganisationen
 \n 	Postmigrantische und transkulturelle Initiativen und Vereine\n 	Initia
 tiven und Vereine\, die im Bereich Integration\, Teilhabe und Begegnung ak
 tiv sind\n\nBringt eure Ideen und Fragen mit. Wir freuen uns auf euch!\n\n
 Immer am zweiten Samstag im Monat.\nEuer House of Resources Team
CATEGORIES:Engagement, Ehrenamt
LOCATION:Kargah e.V.\, Zur Bettfedernfabrik 1\, Hannover\, 30451\, Deutschl
 and
GEO:52.376225;9.709934
X-APPLE-STRUCTURED-LOCATION;VALUE=URI;X-ADDRESS=Zur Bettfedernfabrik 1\, Ha
 nnover\, 30451\, Deutschland;X-APPLE-RADIUS=100;X-TITLE=Kargah e.V.:geo:52
 .376225,9.709934
END:VEVENT
BEGIN:VTIMEZONE
TZID:Europe/Berlin
X-LIC-LOCATION:Europe/Berlin
BEGIN:DAYLIGHT
DTSTART:20260329T030000
TZOFFSETFROM:+0100
TZOFFSETTO:+0200
TZNAME:CEST
END:DAYLIGHT
END:VTIMEZONE
END:VCALENDAR