BEGIN:VCALENDAR
VERSION:2.0
PRODID:-//wp-events-plugin.com//5.99912//EN
TZID:Europe/Berlin
X-WR-TIMEZONE:Europe/Berlin
BEGIN:VEVENT
UID:60297@punkt-linden.de
DTSTART;TZID=Europe/Berlin:20250918T200000
DTEND;TZID=Europe/Berlin:20250918T235900
DTSTAMP:20250812T174220Z
URL:https://punkt-linden.de/termine/i-taki-maki/
SUMMARY:I-TAKI MAKI
DESCRIPTION:I-Taki Maki ist ein in Berlin beheimatetes Duo\, das irgendwo z
 wischen Velvet Alternative Rock\, Blues\, Post-Punk und Slowcore seinen ga
 nz eigenen Sound kreiert.Seit 2012 machen Mimmi (Drums\, Gesang) und strAw
  (Gitarre) gemeinsam Musik – mal rau und direkt\, mal minimalistisch und
  melancholisch\, aber immer intensiv und ehrlich. Im Laufe der Jahre hat s
 ich ihr ursprünglicher Power-Duo-Sound mit italienischen Texten deutlich 
 weiterentwickelt.\n\nHeute stehen I-Taki Maki für eine ausdrucksstarke mu
 sikalische Tiefe und bleiben gleichzeitig auf der Bühne dem treu\, was si
 e von Anfang an ausgemacht hat: eine viszerale\, rohe Energie\, die unter 
 die Haut geht.!!! – der Eintritt ist frei\, Spende erwünscht
ATTACH;FMTTYPE=image/jpeg:https://punkt-linden.de/wp-content/uploads/2025/
 08/I-TAKI-MAKI.jpg
CATEGORIES:Musik, Konzert
LOCATION:Perle\, Am Küchengarten 11 A\, Hannover\, 30449\, Deutschland
GEO:52.370534;9.713237
X-APPLE-STRUCTURED-LOCATION;VALUE=URI;X-ADDRESS=Am Küchengarten 11 A\, Han
 nover\, 30449\, Deutschland;X-APPLE-RADIUS=100;X-TITLE=Perle:geo:52.370534
 ,9.713237
END:VEVENT
BEGIN:VTIMEZONE
TZID:Europe/Berlin
X-LIC-LOCATION:Europe/Berlin
BEGIN:DAYLIGHT
DTSTART:20250330T030000
TZOFFSETFROM:+0100
TZOFFSETTO:+0200
TZNAME:CEST
END:DAYLIGHT
END:VTIMEZONE
END:VCALENDAR