BEGIN:VCALENDAR
VERSION:2.0
PRODID:-//wp-events-plugin.com//5.99912//EN
TZID:Europe/Berlin
X-WR-TIMEZONE:Europe/Berlin
BEGIN:VEVENT
UID:60950@punkt-linden.de
DTSTART;TZID=Europe/Berlin:20251108T200000
DTEND;TZID=Europe/Berlin:20251108T200000
DTSTAMP:20251014T160004Z
URL:https://punkt-linden.de/termine/hore-southern-punk-hannover-frida-indi
 e-hannover-father-nuke-rock-hannover/
SUMMARY:H.O.R.E. (Southern Punk / Hannover) FRIDA (Indie / Hannover) FATHER
  NUKE (Rock / Hannover)
DESCRIPTION:Hangover Rock Explosion... war eine Band\, die im Sommer 2005 a
 ktiv war und für ihren einzigartigen Mix aus Southern-\, Progressive-\, A
 lternative-Rock und Punk bekannt war. In heißen Sommertagen tourten sie d
 urch die 2000er Jahre und hinterließen in vielen Konzertlocations begeist
 erte Fans. Nach einer langen Pause haben sie diesen Sommer ihr Comeback ge
 feiert\, ihre Instrumente wieder in Schuss gebracht und treten nun erneut 
 auf\, um mit ihrem energiegeladenen Rock die Bühne im Keller des Bei Chez
  Heinz zum Beben zu bringen.\n[image src="/assets/HORE-Klofoto-.jpg" id="3
 798" width="400" height="250" class="leftAlone ss-htmleditorfield-file ima
 ge"]\nFrida... ist eine Band aus Hannover-Linden\, die durch ihren vielfä
 ltigen Stil auffällt. Sie kombinieren Indie-\, Sludge- und Alternative-St
 oner-Sounds mit oft deutschen Texten. Besonders in ihren Postrock-Stücken
  zeigen sie eine epische\, instrumentale Seite. Ihr Sound wird durch zwei 
 große Gitarren-Effekte\, bassfreie Bassläufe und dynamisches Schlagzeugs
 piel geprägt. Frida steht für groovende und rhythmisch komplexe Musik\, 
 die richtig mitreißt.\n[image src="/assets/Frida-Komprimiert.jpg" id="380
 4" width="243" height="303" class="leftAlone ss-htmleditorfield-file image
 "]\nFather Nuke... ist eine energiegeladene Band\, die mit ihrem vielseiti
 gen Sound und eindrucksvollen Auftritten beeindruckt. Die Band zeichnet si
 ch durch ihre Fähigkeit aus\, Genres zu mischen und den Zuhörer immer wi
 eder zu überraschen. Trotz ihrer musikalischen Vielfalt sind ihre Songs s
 ehr eingängig und ziehen das Publikum in ihren Bann\, was oft zu tanzende
 n und erstaunten Zuhörern führt. Ein Konzert von Father Nuke ist ein Mus
 s für alle Fans von kraftvoller Musik.\n[image src="/assets/Father-Nuke-K
 omprimiert.jpg" id="3805" width="373" height="249" class="leftAlone ss-htm
 leditorfield-file image"]\n&nbsp\;Tickets: 20\,-€ Hier Tickets bestellen
CATEGORIES:Musik, Konzert
LOCATION:Béi Chéz Heinz\, Liepmannstraße 7b\, Hannover\, 30453\, Deutsch
 land
GEO:52.37195;9.69636
X-APPLE-STRUCTURED-LOCATION;VALUE=URI;X-ADDRESS=Liepmannstraße 7b\, Hannov
 er\, 30453\, Deutschland;X-APPLE-RADIUS=100;X-TITLE=Béi Chéz Heinz:geo:5
 2.37195,9.69636
END:VEVENT
BEGIN:VTIMEZONE
TZID:Europe/Berlin
X-LIC-LOCATION:Europe/Berlin
BEGIN:STANDARD
DTSTART:20251026T020000
TZOFFSETFROM:+0200
TZOFFSETTO:+0100
TZNAME:CET
END:STANDARD
END:VTIMEZONE
END:VCALENDAR