BEGIN:VCALENDAR
VERSION:2.0
PRODID:-//wp-events-plugin.com//5.99912//EN
TZID:Europe/Berlin
X-WR-TIMEZONE:Europe/Berlin
BEGIN:VEVENT
UID:59599@punkt-linden.de
DTSTART;TZID=Europe/Berlin:20250530T120000
DTEND;TZID=Europe/Berlin:20250530T235900
DTSTAMP:20250523T132150Z
URL:https://punkt-linden.de/termine/himmelfahrtsparty-auf-dem-kuechengarte
 nplatz-2/
SUMMARY:Himmelfahrtsparty auf dem Küchengartenplatz
DESCRIPTION:„Christi Limmerfahrt“ geht 2025 in die Verlängerung: Am 29
 . und 30. Mai wird auf dem Küchengartenplatz gefeiert – mit Livemusik\,
  DJs\, Foodtrucks\, Getränkeständen und Freibier für Shirt-Träger.&nbs
 p\;Weitere Informationen dazu in der hier verlinkten Punkt-Linden News
ATTACH;FMTTYPE=image/jpeg:https://punkt-linden.de/wp-content/uploads/2025/
 05/christi-limmerfahrt-2024-020.webp
CATEGORIES:Sonstiges
LOCATION:Küchengarten\, Am Küchengarten\, Hannover\, 30449\, Deutschland
GEO:52.370748;9.715717
X-APPLE-STRUCTURED-LOCATION;VALUE=URI;X-ADDRESS=Am Küchengarten\, Hannover
 \, 30449\, Deutschland;X-APPLE-RADIUS=100;X-TITLE=Küchengarten:geo:52.370
 748,9.715717
END:VEVENT
BEGIN:VTIMEZONE
TZID:Europe/Berlin
X-LIC-LOCATION:Europe/Berlin
BEGIN:DAYLIGHT
DTSTART:20250330T030000
TZOFFSETFROM:+0100
TZOFFSETTO:+0200
TZNAME:CEST
END:DAYLIGHT
END:VTIMEZONE
END:VCALENDAR