BEGIN:VCALENDAR
VERSION:2.0
PRODID:-//wp-events-plugin.com//5.99912//EN
TZID:Europe/Berlin
X-WR-TIMEZONE:Europe/Berlin
BEGIN:VEVENT
UID:61329@punkt-linden.de
DTSTART;TZID=Europe/Berlin:20251129T150000
DTEND;TZID=Europe/Berlin:20251129T235900
DTSTAMP:20251125T221501Z
URL:https://punkt-linden.de/termine/herzlich-willkommen-im-mut-cafe-hannov
 er-linden/
SUMMARY:Herzlich Willkommen im Mut Café-Hannover-Linden
DESCRIPTION:Ein offener Treffpunkt für alle\, zum Unterhalten\, Informatio
 nen austauschen und erhalten\, nicht alleine sein\, sich anvertrauen\, Hof
 fnung schöpfen. Natürlich dürfen sich auch Betroffene Angehörige und I
 nteressierte speziell zu psychischen Erkrankungen angesprochen fühlen. Wi
 r stehen auch bereit für das eine oder andere Informationsgespräch.\n\nK
 ommt also gerne vorbei ganz ohne Druck oder ähnliches\, es gibt Kaffee\, 
 Tee belegte Brötchen und Kuchen auf Spendenbasis!!\nEin kleiner Basar mit
  selber gemachten Sachen wird auch da sein.\nWir sind in den Räumen vom C
 afé Allerlei zu finden!
ATTACH;FMTTYPE=image/jpeg:https://punkt-linden.de/wp-content/uploads/2025/
 11/MutCafe__Advent_Hannover-Linden_29.11.2025.jpg
CATEGORIES:Engagement, Ehrenamt,Essen, Trinken,Sonstiges
LOCATION:Café Allerlei\, Allerweg 7\, Hannover\, 30449\, Deutschland
GEO:52.362272;9.717195
X-APPLE-STRUCTURED-LOCATION;VALUE=URI;X-ADDRESS=Allerweg 7\, Hannover\, 304
 49\, Deutschland;X-APPLE-RADIUS=100;X-TITLE=Café Allerlei:geo:52.362272,9
 .717195
END:VEVENT
BEGIN:VTIMEZONE
TZID:Europe/Berlin
X-LIC-LOCATION:Europe/Berlin
BEGIN:STANDARD
DTSTART:20251026T020000
TZOFFSETFROM:+0200
TZOFFSETTO:+0100
TZNAME:CET
END:STANDARD
END:VTIMEZONE
END:VCALENDAR