BEGIN:VCALENDAR
VERSION:2.0
PRODID:-//wp-events-plugin.com//5.99912//EN
TZID:Europe/Berlin
X-WR-TIMEZONE:Europe/Berlin
BEGIN:VEVENT
UID:59486@punkt-linden.de
DTSTART;TZID=Europe/Berlin:20250530T200000
DTEND;TZID=Europe/Berlin:20250530T235900
DTSTAMP:20250510T201042Z
URL:https://punkt-linden.de/termine/heretoir/
SUMMARY:HERETOIR
DESCRIPTION:Mit einer Mischung aus den emotionalen und atmosphärischen Ele
 menten des Black Metal\, progressiven\, rhythmusgeladenen Melodic Death Me
 tal-Strukturen und der Schönheit des Post-Rock schafft HERETOIR einen nos
 talgischen\, melancholischen und beruhigenden Soundtrack für unsere verr
 ückte Welt. Bis heute hat die Band drei Studioalben\, ein Mini-Album sowi
 e mehrere EPs und Kompilationen veröffentlicht.\n\nHeretoir hat europawei
 t Konzerte gespielt\, unter anderem mit Bands wie Katatonia\, Alcest\, God
  is an Astronaut oder Agalloch\, und ist mit Gruppen wie Killswitch Engage
 \, Enslaved\, Der Weg einer Freiheit\, Kalmah\, Les Discrets und Ghost Bat
 h auf Tour gegangen. Die Band beschränkt sich nicht nur auf Europa und ha
 t auch in Ländern wie China\, Mexiko\, Kolumbien\, Chile\, Argentinien un
 d Brasilien getourt.\n\nHeretoir ist bereit\, die Bühnen der Welt mehr de
 nn je mit voller Kraft zu erobern – während das nächste Studioalbum be
 reits für 2025 angekündigt ist.\n\n-------------------------\n\nSupport:
  RÝR\nrýr ist eine in Berlin ansässige instrumentale Post-Metal-Band\, 
 deren Name vom isländischen Wort für karg oder spärlich stammt. Dieser 
 Kontrast zwischen Dürre und Tiefe steht im Zentrum ihres Sounds – kraft
 voll\, basslastig und zugleich ätherisch.\n\nInstrumentaler Post-Rock und
  Post-Metal/Doom tendieren oft entweder zu intensiven Klanglandschaften od
 er reiner Wucht\, was schnell vorhersehbar wirken kann. Um dieses Muster z
 u durchbrechen\, gründete Marius Jung im Jahr 2018 rýr mit dem Ziel\, sc
 hwere Rhythmen und dynamische Riffs mit atmosphärischer Tiefe zu verbinde
 n\, ohne dabei an Wirkung zu verlieren.
ATTACH;FMTTYPE=image/jpeg:https://punkt-linden.de/wp-content/uploads/2025/
 05/Heretoir07-kl.jpg
CATEGORIES:Musik, Konzert
LOCATION:Café Glocksee\, Glockseestraße 35\, Hannover\, 30169\, Deutschla
 nd
GEO:52.37186;9.720571
X-APPLE-STRUCTURED-LOCATION;VALUE=URI;X-ADDRESS=Glockseestraße 35\, Hannov
 er\, 30169\, Deutschland;X-APPLE-RADIUS=100;X-TITLE=Café Glocksee:geo:52.
 37186,9.720571
END:VEVENT
BEGIN:VTIMEZONE
TZID:Europe/Berlin
X-LIC-LOCATION:Europe/Berlin
BEGIN:DAYLIGHT
DTSTART:20250330T030000
TZOFFSETFROM:+0100
TZOFFSETTO:+0200
TZNAME:CEST
END:DAYLIGHT
END:VTIMEZONE
END:VCALENDAR