BEGIN:VCALENDAR
VERSION:2.0
PRODID:-//wp-events-plugin.com//5.99912//EN
TZID:Europe/Berlin
X-WR-TIMEZONE:Europe/Berlin
BEGIN:VEVENT
UID:60775@punkt-linden.de
DTSTART;TZID=Europe/Berlin:20251126T193000
DTEND;TZID=Europe/Berlin:20251126T193000
DTSTAMP:20250926T160004Z
URL:https://punkt-linden.de/termine/heinz-chorioschor-karaoke-party/
SUMMARY:HEINZ CHORIOS - Chor-Karaoke-Party
DESCRIPTION:Sing doch selber! mit HEINZ CHORIOS - gemeinsam singen mit Hein
 z und Herz\nDas Gemeinschaftskonzert im Laden Eures Vertrauens. Was passie
 rt\, wenn ALLE ohne Mikro Karaoke ohne Leadstimme singen Es entsteht ein C
 hor. Einfach mitsingen - Ihr bestimmt das Programm!Lust auf gute Laune und
  spontane Chorfreundschaften Ab in den Keller Eures Vertrauens.Tickets: 5\
 ,- € Hier Tickets bestellen
CATEGORIES:Sport, Spiel
LOCATION:Béi Chéz Heinz\, Liepmannstraße 7b\, Hannover\, 30453\, Deutsch
 land
GEO:52.37195;9.69636
X-APPLE-STRUCTURED-LOCATION;VALUE=URI;X-ADDRESS=Liepmannstraße 7b\, Hannov
 er\, 30453\, Deutschland;X-APPLE-RADIUS=100;X-TITLE=Béi Chéz Heinz:geo:5
 2.37195,9.69636
END:VEVENT
BEGIN:VTIMEZONE
TZID:Europe/Berlin
X-LIC-LOCATION:Europe/Berlin
BEGIN:STANDARD
DTSTART:20251026T020000
TZOFFSETFROM:+0200
TZOFFSETTO:+0100
TZNAME:CET
END:STANDARD
END:VTIMEZONE
END:VCALENDAR