BEGIN:VCALENDAR
VERSION:2.0
PRODID:-//wp-events-plugin.com//5.99912//EN
TZID:Europe/Berlin
X-WR-TIMEZONE:Europe/Berlin
BEGIN:VEVENT
UID:61751@punkt-linden.de
DTSTART;TZID=Europe/Berlin:20260205T193000
DTEND;TZID=Europe/Berlin:20260205T193000
DTSTAMP:20260114T170003Z
URL:https://punkt-linden.de/termine/hannover-singtkaraoke-in-eurem-lieblin
 gskeller/
SUMMARY:Hannover singt - Karaoke in Eurem Lieblingskeller
DESCRIPTION:Lass deine Stimme erklingen!Ob alleine\, mit Freunden oder als 
 spontanes After-Work-Abenteuer – bei uns erwartet dich ein unvergesslich
 er Abend voller Musik\, Humor und guter Laune. In unserem gemütlichen Kel
 lerambiente wird jeder zum Star: Schnapp dir das Mikrofon\, wähle deine L
 ieblingssongs aus und sing dich frei von Alltag und Stress.\nEgal ob du zu
 m ersten Mal singst oder längst Bühnenluft geschnuppert hast – hier z
 ählt nur der Spaß.\nKomm vorbei\, tauche ein in die Welt der Musik und e
 rlebe einen Abend\, den du so schnell nicht vergisst.Wir freuen uns auf de
 ine Stimme!Tickets: Der Hut geht rum :)
CATEGORIES:Sport, Spiel
LOCATION:Béi Chéz Heinz\, Liepmannstraße 7b\, Hannover\, 30453\, Deutsch
 land
GEO:52.37195;9.69636
X-APPLE-STRUCTURED-LOCATION;VALUE=URI;X-ADDRESS=Liepmannstraße 7b\, Hannov
 er\, 30453\, Deutschland;X-APPLE-RADIUS=100;X-TITLE=Béi Chéz Heinz:geo:5
 2.37195,9.69636
END:VEVENT
BEGIN:VTIMEZONE
TZID:Europe/Berlin
X-LIC-LOCATION:Europe/Berlin
BEGIN:STANDARD
DTSTART:20251026T020000
TZOFFSETFROM:+0200
TZOFFSETTO:+0100
TZNAME:CET
END:STANDARD
END:VTIMEZONE
END:VCALENDAR