BEGIN:VCALENDAR
VERSION:2.0
PRODID:-//wp-events-plugin.com//5.99912//EN
TZID:Europe/Berlin
X-WR-TIMEZONE:Europe/Berlin
BEGIN:VEVENT
UID:60604@punkt-linden.de
DTSTART;TZID=Europe/Berlin:20250921T110000
DTEND;TZID=Europe/Berlin:20250921T235900
DTSTAMP:20250907T190249Z
URL:https://punkt-linden.de/termine/gottesdienst-zum-weltkindertag/
SUMMARY:Gottesdienst zum Weltkindertag
DESCRIPTION:Open-Air-Gottesdienst für Kinder und Erwachsene im Rahmen des 
 Kiezfestes in Limmer. Wir singen\, beten\, lachen und beschäftigen uns mi
 t dem Thema "Kinderrechte".\nAlle Interessierten sind herzlich eingeladen\
 , unabhängig von ihrer Religionszugehörigkeit.\n\nKontakt: Pastorin Susa
 nne Michaelsen\, St. Nikolai Limmer\, susanne.michaelsen@evlka.de
ATTACH;FMTTYPE=image/jpeg:https://punkt-linden.de/wp-content/uploads/2025/
 09/familiengottesdienstkiezfestflyer2025.png
CATEGORIES:Für Kinder,Kirche, Religion,Musik, Konzert
LOCATION:Margarethe-und-Max-Rüdenberg-Platz\, Margarethe-und-Max-Rüdenber
 g-Platz \, Hannover\, Deutschland\, 30453\, Niedersachsen \, Deutschland
GEO:52.377469;9.684447
X-APPLE-STRUCTURED-LOCATION;VALUE=URI;X-ADDRESS=Margarethe-und-Max-Rüdenbe
 rg-Platz \, Hannover\, Deutschland\, 30453\, Niedersachsen \, Deutschland;
 X-APPLE-RADIUS=100;X-TITLE=Margarethe-und-Max-Rüdenberg-Platz:geo:52.3774
 69,9.684447
END:VEVENT
BEGIN:VTIMEZONE
TZID:Europe/Berlin
X-LIC-LOCATION:Europe/Berlin
BEGIN:DAYLIGHT
DTSTART:20250330T030000
TZOFFSETFROM:+0100
TZOFFSETTO:+0200
TZNAME:CEST
END:DAYLIGHT
END:VTIMEZONE
END:VCALENDAR