BEGIN:VCALENDAR
VERSION:2.0
PRODID:-//wp-events-plugin.com//5.99912//EN
TZID:Europe/Berlin
X-WR-TIMEZONE:Europe/Berlin
BEGIN:VEVENT
UID:60615@punkt-linden.de
DTSTART;TZID=Europe/Berlin:20251101T200000
DTEND;TZID=Europe/Berlin:20251101T235900
DTSTAMP:20250909T131001Z
URL:https://punkt-linden.de/termine/glitzersuite-trashpop-aus-hh-tba/
SUMMARY:GlitzerSuite (TrashPop aus HH) + TBA
DESCRIPTION:GLITZERSUITE sind Josie Kaos\, Coco Del Taco und Jean Coppong a
 us Hamburg\, St. Pauli. Anfang 2020 gründeten sie aus purer Liebe und Suc
 ht nach Musik das GLITZERSUITE-Experiment. GLITZERSUITE atmet das Neonlich
 t\, den Beton und das Leben von St. Pauli. Diesen Spirit kann man in ihrer
  Musik und ihren Texten hören\, riechen und sogar fühlen.\n\nMehr Infos\
 , Musik und Videos auf:\nhttps://www.instagram.com/glitzer_suite/\n\nSpoti
 fy:\nhttps://open.spotify.com/intl-de/artist/15d1DeXiYLOWosT1BqrpH0? si=fv
 8sWO5MSv6rKtRVbHr77w\n\nGlitzerSuite auf Bandcamp:\nhttps://glitzersuite.b
 andcamp.com
ATTACH;FMTTYPE=image/jpeg:https://punkt-linden.de/wp-content/uploads/2025/
 09/Pressebild2_300DPI_RGB.jpg
CATEGORIES:Musik, Konzert
LOCATION:Kulturpalast Linden\, Deisterstraße 24\, Hannover\, 30449\, Deuts
 chland
GEO:52.366317;9.719204
X-APPLE-STRUCTURED-LOCATION;VALUE=URI;X-ADDRESS=Deisterstraße 24\, Hannove
 r\, 30449\, Deutschland;X-APPLE-RADIUS=100;X-TITLE=Kulturpalast Linden:geo
 :52.366317,9.719204
END:VEVENT
BEGIN:VTIMEZONE
TZID:Europe/Berlin
X-LIC-LOCATION:Europe/Berlin
BEGIN:STANDARD
DTSTART:20251026T020000
TZOFFSETFROM:+0200
TZOFFSETTO:+0100
TZNAME:CET
END:STANDARD
END:VTIMEZONE
END:VCALENDAR