BEGIN:VCALENDAR
VERSION:2.0
PRODID:-//wp-events-plugin.com//5.99912//EN
TZID:Europe/Berlin
X-WR-TIMEZONE:Europe/Berlin
BEGIN:VEVENT
UID:62482@punkt-linden.de
DTSTART;TZID=Europe/Berlin:20260522T200000
DTEND;TZID=Europe/Berlin:20260522T200000
DTSTAMP:20260312T170004Z
URL:https://punkt-linden.de/termine/galvanizer-death-metal-finnland-malfor
 med-death-metal-finnland/
SUMMARY:GALVANIZER (Death Metal / Finnland)\, MALFORMED (Death Metal / Finn
 land)
DESCRIPTION:Galvanizer... tauchte 2013 als Soloprojekt in der Death-Metal-S
 zene auf. Nach seinen bescheidenenAnfängen wurde das Projekt im folgenden
  Jahr um ein zweites Mitglied erweitert. Angetrieben von ihrergemeinsamen 
 musikalischen Vision begann das Duo eine intensive Probenphase\, die in de
 rEntstehung ihrer Debüt-Demo „Ground Above“ gipfelte. Dieses erste We
 rk zeigte Galvanizersunerbittliche Hingabe an brutalen und knirschenden De
 ath Metal\, der sich durch eine Fülle von Energie\,Rohheit und einen bewu
 sst groben Produktionsstil auszeichnet.\n&nbsp\;\nMalformed... ist eine b
 ösartige Death-Metal-Band aus Helsinki\, Finnland. Die Band hat eine Demo
  und eine EP über Rotted Life Records bzw. Extremely Rotten Productions v
 eröffentlicht\, ihr Debütalbum „Confinement of Flesh” erschien im Ju
 li 2025 über Dark Descent Records. Malformed tourte durch Finnland und Eu
 ropa und lieferte dabei gnadenlose Live-Auftritte – erlebt das Gemetzel 
 selbst...\n&nbsp\;\nLokaler Support von:\nEtemenanki... Gegründet wurde E
 temenanki in 2018 mit dem Ziel Death Metal zu spielen. Dabei sind hohesTem
 po\, ein Mix aus vertrackten und stumpfen Riffs\, interessante Bass-Bridge
 s\, Blast Beatsund eine Prise Thrash und Prog ihr Markenzeichen. Die Live 
 Shows der Bands verleiten zumMoshen und Headbangen! Ihre erste Demo erschi
 en im Mai 2025 komplett in Eigenregie.Eine Full-Length ist in Arbeit.Ticke
 ts: tba Hier Tickets bestellen
CATEGORIES:Musik, Konzert
LOCATION:Béi Chéz Heinz\, Liepmannstraße 7b\, Hannover\, 30453\, Deutsch
 land
GEO:52.37195;9.69636
X-APPLE-STRUCTURED-LOCATION;VALUE=URI;X-ADDRESS=Liepmannstraße 7b\, Hannov
 er\, 30453\, Deutschland;X-APPLE-RADIUS=100;X-TITLE=Béi Chéz Heinz:geo:5
 2.37195,9.69636
END:VEVENT
BEGIN:VTIMEZONE
TZID:Europe/Berlin
X-LIC-LOCATION:Europe/Berlin
BEGIN:DAYLIGHT
DTSTART:20260329T030000
TZOFFSETFROM:+0100
TZOFFSETTO:+0200
TZNAME:CEST
END:DAYLIGHT
END:VTIMEZONE
END:VCALENDAR