BEGIN:VCALENDAR
VERSION:2.0
PRODID:-//wp-events-plugin.com//5.99912//EN
TZID:Europe/Berlin
X-WR-TIMEZONE:Europe/Berlin
BEGIN:VEVENT
UID:62342@punkt-linden.de
DTSTART;TZID=Europe/Berlin:20260329T100000
DTEND;TZID=Europe/Berlin:20260329T235900
DTSTAMP:20260226T171636Z
URL:https://punkt-linden.de/termine/fuehrungen-und-kaffee-und-kuchen-3/
SUMMARY:Führungen und Kaffee und Kuchen
DESCRIPTION:Interessantes zu den Lindener Eisen- &amp\; Stahlwerken im Rahm
 en der Scilla-Blüten-Wochen.
CATEGORIES:Vortrag, Führung, Workshop
LOCATION:Werksmuseum Eisen und Stahl\, Badenstedter Straße 48\, Hannover\,
  30453\, Deutschland
X-APPLE-STRUCTURED-LOCATION;VALUE=URI;X-ADDRESS=Badenstedter Straße 48\, H
 annover\, 30453\, Deutschland;X-APPLE-RADIUS=100;X-TITLE=Werksmuseum Eisen
  und Stahl:geo:0,0
END:VEVENT
BEGIN:VTIMEZONE
TZID:Europe/Berlin
X-LIC-LOCATION:Europe/Berlin
BEGIN:DAYLIGHT
DTSTART:20260329T030000
TZOFFSETFROM:+0100
TZOFFSETTO:+0200
TZNAME:CEST
END:DAYLIGHT
END:VTIMEZONE
END:VCALENDAR