BEGIN:VCALENDAR
VERSION:2.0
PRODID:-//wp-events-plugin.com//5.99912//EN
TZID:Europe/Berlin
X-WR-TIMEZONE:Europe/Berlin
BEGIN:VEVENT
UID:59909@punkt-linden.de
DTSTART;TZID=Europe/Berlin:20250704T180000
DTEND;TZID=Europe/Berlin:20250704T235900
DTSTAMP:20250627T115335Z
URL:https://punkt-linden.de/termine/frau-merkels-und-mein-traum/
SUMMARY:"Frau Merkels und mein Traum"
DESCRIPTION:Die Autorin Mojdeh Mavaji liest aus ihrem Buch.\nDie Moderation
  übernimmt Tarja Sohmer\, Gitarre und Gesang: Behdad Yaalimadad.\n\nUnd a
 m Sonntag\, den 6. Juli 2025 um 16 Uhr lädt Quartier e.V. zum Gespräch m
 it der Künstlerin\nAlmut Breuste.\n\nDie Ausstellung der Künstlerin mit 
 dem Titel - Moment - kann noch bis zum 20. Juli 2025 besucht werden.
ATTACH;FMTTYPE=image/jpeg:https://punkt-linden.de/wp-content/uploads/2025/
 06/KarteMojdeh.jpg
CATEGORIES:Literatur, Lesung
LOCATION:Küchengartenpavillon\, Am Lindener Berge 44\, Hannover\, Niedersa
 chsen\, 30449\, Deutschland
GEO:52.362432;9.703512
X-APPLE-STRUCTURED-LOCATION;VALUE=URI;X-ADDRESS=Am Lindener Berge 44\, Hann
 over\, Niedersachsen\, 30449\, Deutschland;X-APPLE-RADIUS=100;X-TITLE=Küc
 hengartenpavillon:geo:52.362432,9.703512
END:VEVENT
BEGIN:VTIMEZONE
TZID:Europe/Berlin
X-LIC-LOCATION:Europe/Berlin
BEGIN:DAYLIGHT
DTSTART:20250330T030000
TZOFFSETFROM:+0100
TZOFFSETTO:+0200
TZNAME:CEST
END:DAYLIGHT
END:VTIMEZONE
END:VCALENDAR