BEGIN:VCALENDAR
VERSION:2.0
PRODID:-//wp-events-plugin.com//5.99912//EN
TZID:Europe/Berlin
X-WR-TIMEZONE:Europe/Berlin
BEGIN:VEVENT
UID:61805@punkt-linden.de
DTSTART;TZID=Europe/Berlin:20260116T200000
DTEND;TZID=Europe/Berlin:20260116T235900
DTSTAMP:20260116T090826Z
URL:https://punkt-linden.de/termine/francesco-zuli/
SUMMARY:Francesco &amp\; Zuli
DESCRIPTION:Das Markenzeichen ist der rote Kühlschrank: Seit Oktober 2020 
 veranstaltet Marco Heuer Wohnzimmerkonzerte\, Lesungen und Diskussionen in
  seiner Wohnung in Linden-Nord. Heute sind in der Reihe Red Fridge Frances
 co und Zuli zu Gast. Sie aus Russland\, er aus Italien. Kennengelernt habe
 n sich beide in einer Karaoke Bar. Sie fand seine Stimme toll\, er ihre. S
 ie war von seiner Performance von Linkin' Parks "In the end" fasziniert\, 
 er - sagt sie später - fand sie wunderschön. Heute stehen sie gemeinsam 
 auf der Bühne und spielen Coversongs der 1970er\, 1980er\, 1990er und 200
 0er - und ab und zu ein eigenes Lied.\n\nEinlass ab 19 Uhr\, Beginn 20 Uhr
 \nGetränke\, Snacks und frische Pizza gegen Spende\nEs gibt noch Karten b
 ei Marco Heuer (0177) 3395413
ATTACH;FMTTYPE=image/jpeg:https://punkt-linden.de/wp-content/uploads/2026/
 01/260116-red-fridge-linden_francesco_zuli_quer.png
CATEGORIES:Musik, Konzert
LOCATION:REDFRIDGE Linden\, Velberstraße\, Hannover\, 30451\, Deutschland
GEO:52.373018;9.706913
X-APPLE-STRUCTURED-LOCATION;VALUE=URI;X-ADDRESS=Velberstraße\, Hannover\, 
 30451\, Deutschland;X-APPLE-RADIUS=100;X-TITLE=REDFRIDGE Linden:geo:52.373
 018,9.706913
END:VEVENT
BEGIN:VTIMEZONE
TZID:Europe/Berlin
X-LIC-LOCATION:Europe/Berlin
BEGIN:STANDARD
DTSTART:20251026T020000
TZOFFSETFROM:+0200
TZOFFSETTO:+0100
TZNAME:CET
END:STANDARD
END:VTIMEZONE
END:VCALENDAR