BEGIN:VCALENDAR
VERSION:2.0
PRODID:-//wp-events-plugin.com//5.99912//EN
TZID:Europe/Berlin
X-WR-TIMEZONE:Europe/Berlin
BEGIN:VEVENT
UID:59381@punkt-linden.de
DTSTART;TZID=Europe/Berlin:20250530T200000
DTEND;TZID=Europe/Berlin:20250530T235900
DTSTAMP:20250521T184634Z
URL:https://punkt-linden.de/termine/fotobus-society-what-happens-in-the-me
 antime/
SUMMARY:Fotobus Society: what happens in the meantime
DESCRIPTION:Die Fotobus Society\, ein Verein zur Nachwuchsförderung von Fo
 tograf:innen\, lädt im Zeitraum vom 30. Mai bis 21. Juni 2025 herzlich zu
 r Ausstellung „what happens in the meantime“ ein – einer Open-Air-Fo
 toausstellung in Hannover. Insgesamt 34 internationale Fotograf:innen prä
 sentieren an vier zentralen Orten Auszüge aus ihren Arbeiten.\nStatt sich
  auf einen einzelnen thematischen Rahmen festzulegen\, rückt die Fotobus 
 Society die oft übersehenen\, aber bedeutenden Momente des Wandels in den
  Fokus. „Geschichte wird nicht nur in ihren Höhepunkten geschrieben\, s
 ondern vor allem in den scheinbar unsichtbaren Prozessen\, die sie formen
 “\, erklärt das Ausstellungsteam.\n\nDer Verein lädt am 30. Mai um 20:
 00 Uhr zu einer feierlichen Eröffnung auf der Faustwiese ein. Im Zeitraum
  der Ausstellung finden an drei Terminen (31. Mai\, 07. Juni\, 14. Juni) A
 rtist Walks statt\, bei denen Fotograf:innen ihre Arbeiten näher erläute
 rn. Die Rundgänge starten um 15:00 Uhr am Landesmuseum und um 18:00 Uhr i
 n Linden auf der Faustwiese und dauern etwa eineinhalb Stunden. Im Ausstel
 lungszeitraum finden jeden Samstag auf der Faustwiese ab 21:30 Uhr öffent
 liche Slideshows statt.\nDer Fotobus selbst wird jeden Samstag während de
 s Ausstellungszeitraums als mobile Informations- und Anlaufstelle dienen.\
 n\nÜber die Fotobus Society\nDie Fotobus Society wurde 2018 von Christoph
  Bangert gegründet und ist ein gemeinnütziger Verein\, der sich der För
 derung junger Fotograf:innen widmet. Der Verein bietet Studierenden aus ü
 ber 30 europäischen Hochschulen eine Plattform\, ihre kreativen Fähigkei
 ten weiterzuentwickeln und sich in einem interkulturellen\, hierarchiefrei
 en Raum auszutauschen. Zu den Angeboten gehören Workshops\, Exkursionen z
 u bedeutenden Fotografie-Festivals\, Ausstellungen und Networking-Events. 
 Die Mitgliedschaft für Studierende ist kostenfrei.
ATTACH;FMTTYPE=image/jpeg:https://punkt-linden.de/wp-content/uploads/2025/
 04/2023_Fotobus-Ausstellung_Leibnizufer_Carlotta_Steinkamp.jpg
CATEGORIES:Ausstellung,Vortrag, Führung, Workshop
LOCATION:Faustwiese\, Zur Bettfedernfabrik\, Hannover\, 30449\, Deutschland
GEO:52.375787;9.710785
X-APPLE-STRUCTURED-LOCATION;VALUE=URI;X-ADDRESS=Zur Bettfedernfabrik\, Hann
 over\, 30449\, Deutschland;X-APPLE-RADIUS=100;X-TITLE=Faustwiese:geo:52.37
 5787,9.710785
END:VEVENT
BEGIN:VTIMEZONE
TZID:Europe/Berlin
X-LIC-LOCATION:Europe/Berlin
BEGIN:DAYLIGHT
DTSTART:20250330T030000
TZOFFSETFROM:+0100
TZOFFSETTO:+0200
TZNAME:CEST
END:DAYLIGHT
END:VTIMEZONE
END:VCALENDAR