BEGIN:VCALENDAR
VERSION:2.0
PRODID:-//wp-events-plugin.com//5.99912//EN
TZID:Europe/Berlin
X-WR-TIMEZONE:Europe/Berlin
BEGIN:VEVENT
UID:61861@punkt-linden.de
DTSTART;TZID=Europe/Berlin:20260205T200000
DTEND;TZID=Europe/Berlin:20260205T235900
DTSTAMP:20260123T191709Z
URL:https://punkt-linden.de/termine/forever-grey-the-discussion/
SUMMARY:FOREVER GREY + THE DISCUSSION
DESCRIPTION:Um dem sonnigen Kalifornien zu entfliehen und der Welt ihren Da
 rk-Wave-Sound zu bringen\, gehen FOREVER GREY aus Los Angeles zusammen mit
  THE DISCUSSION (Laura Pleasants von Kylesa) auf eine winterliche Konzertr
 eise - die Europe Winter 2026 Tour.\n\nFOREVER GREY\nForever Grey ist eine
  Darkwave-Band aus Los Angeles\, Kalifornien. Sie sind bekannt für ihren 
 melancholischen\, düsteren Sound mit verträumten Synths und tiefem\, oft
  hallendem Gesang. Ihre Musik erinnert an klassische Post-Punk- und Darkwa
 ve-Bands wie The Cure\, Clan of Xymox oder She Past Away\, hat aber einen 
 heutigen\, etwas roheren Touch.\n\nDie erste EP Poems About Eternity wurde
  im Frühjahr 2015 veröffentlicht\, als die Band noch in Grand Rapids\, M
 ichigan ansässig war. Das Projekt veröffentlichte im Jahr 2015 fünf Kas
 setten\, die später als das Album Boundaries herausgebracht wurden. Autum
 n Calling erschien 2016 auf dem in New York ansässigen Noise-Label Prime 
 Ruin. Etwa zu dieser Zeit tourte die Band durch die Vereinigten Staaten\, 
 Kanada und Mexiko.\n\n-------------------------\n\nTHE DISCUSSION hat sich
  mit ihrer genreübergreifenden\, entschieden dunklen Klangidentität und 
 ihren lyrischen Stilmitteln\, die in einer modernen Vision des Post-Punk v
 erwurzelt sind\, rasch eine vielfältige und wachsende Fangemeinde aufgeba
 ut.\n\nDas geistige Kind der Künstlerin und Musikerin Laura Pleasants\, h
 at The Discussion mit ihrer genreübergreifenden\, unverkennbar düsteren 
 Klangästhetik und Texten\, die in Post-Punk\, New Wave und Gothic wurzeln
 \, schnell eine breit gefächerte Anhängerschaft gewonnen – mit einem d
 eutlichen Augenzwinkern in Richtung Shoegaze und Death Rock. Eine Flut von
  Singles ist derzeit für den Rest des Jahres geplant und ebnet den Weg da
 für\, dass Laura im Jahr 2025 intensiv auf Tour gehen kann.
ATTACH;FMTTYPE=image/jpeg:https://punkt-linden.de/wp-content/uploads/2026/
 01/Forever-grey-14.jpg
CATEGORIES:Musik, Konzert
LOCATION:Café Glocksee\, Glockseestraße 35\, Hannover\, 30169\, Deutschla
 nd
GEO:52.37186;9.720571
X-APPLE-STRUCTURED-LOCATION;VALUE=URI;X-ADDRESS=Glockseestraße 35\, Hannov
 er\, 30169\, Deutschland;X-APPLE-RADIUS=100;X-TITLE=Café Glocksee:geo:52.
 37186,9.720571
END:VEVENT
BEGIN:VTIMEZONE
TZID:Europe/Berlin
X-LIC-LOCATION:Europe/Berlin
BEGIN:STANDARD
DTSTART:20251026T020000
TZOFFSETFROM:+0200
TZOFFSETTO:+0100
TZNAME:CET
END:STANDARD
END:VTIMEZONE
END:VCALENDAR