BEGIN:VCALENDAR
VERSION:2.0
PRODID:-//wp-events-plugin.com//5.99912//EN
TZID:Europe/Berlin
X-WR-TIMEZONE:Europe/Berlin
BEGIN:VEVENT
UID:62868@punkt-linden.de
DTSTART;TZID=Europe/Berlin:20260426T110000
DTEND;TZID=Europe/Berlin:20260426T235900
DTSTAMP:20260421T192133Z
URL:https://punkt-linden.de/termine/finissage-lauscher-loeffel-labertasche
 -hoer-und-klangerlebnisse/
SUMMARY:Finissage "Lauscher\, Löffel\, Labertasche - Hör- und Klangerlebn
 isse"
DESCRIPTION:Ein letztes Mal die Lauscher aufsperren!\n\nHören war bei uns 
 in den vergangenen Monaten das Gesprächsthema: Hunderte Kinder und Erwach
 sene besuchten unsere aktuelle Ausstellung „Lauscher\, Löffel\, Laberta
 sche“ und waren begeistert von den Mitmach-Stationen sowie dem Begleitpr
 ogramm. Am Sonntag feiern wir das Ende mit einer Finissage: An dem Tag gib
 t’s viele Workshops und Aktionen. Dazu seid ihr herzlich eingeladen zwis
 chen 11–16 Uhr.
ATTACH;FMTTYPE=image/jpeg:https://punkt-linden.de/wp-content/uploads/2026/
 04/Finissage_Lauscher_Programm.jpg
CATEGORIES:Ausstellung,Essen, Trinken,Für Kinder,Vortrag, Führung,
 Workshop
LOCATION:Kindermuseum Zinnober\, Am Steinbruch 16\, Hannover\, 30449\, Deut
 schland
GEO:52.363539;9.699694
X-APPLE-STRUCTURED-LOCATION;VALUE=URI;X-ADDRESS=Am Steinbruch 16\, Hannover
 \, 30449\, Deutschland;X-APPLE-RADIUS=100;X-TITLE=Kindermuseum Zinnober:ge
 o:52.363539,9.699694
END:VEVENT
BEGIN:VTIMEZONE
TZID:Europe/Berlin
X-LIC-LOCATION:Europe/Berlin
BEGIN:DAYLIGHT
DTSTART:20260329T030000
TZOFFSETFROM:+0100
TZOFFSETTO:+0200
TZNAME:CEST
END:DAYLIGHT
END:VTIMEZONE
END:VCALENDAR