BEGIN:VCALENDAR
VERSION:2.0
PRODID:-//wp-events-plugin.com//5.99912//EN
TZID:Europe/Berlin
X-WR-TIMEZONE:Europe/Berlin
BEGIN:VEVENT
UID:60830@punkt-linden.de
DTSTART;TZID=Europe/Berlin:20251119T100000
DTEND;TZID=Europe/Berlin:20251119T235900
DTSTAMP:20251006T142046Z
URL:https://punkt-linden.de/termine/familientag-fuer-kinder-mit-ihren-elte
 rn-2/
SUMMARY:Familientag für Kinder mit ihren Eltern
DESCRIPTION:Kostenloser Familientag für Kinder mit ihren Eltern am 19.11.2
 025 in der Zeit von 10 bis 17 Uhr\n\nweitere Familientage: So. 28.12.25 | 
 So. 04.01.2026\nVeranstalter: Förderverein Fössebad.eV.
ATTACH;FMTTYPE=image/jpeg:https://punkt-linden.de/wp-content/uploads/2025/
 10/028.jpg
CATEGORIES:Für Kinder,Sport, Spiel
LOCATION:Fössebad\, Liepmannstraße 7b\, Hannover\, 30453\, Deutschland
GEO:52.37195;9.69636
X-APPLE-STRUCTURED-LOCATION;VALUE=URI;X-ADDRESS=Liepmannstraße 7b\, Hannov
 er\, 30453\, Deutschland;X-APPLE-RADIUS=100;X-TITLE=Fössebad:geo:52.37195
 ,9.69636
END:VEVENT
BEGIN:VTIMEZONE
TZID:Europe/Berlin
X-LIC-LOCATION:Europe/Berlin
BEGIN:STANDARD
DTSTART:20251026T020000
TZOFFSETFROM:+0200
TZOFFSETTO:+0100
TZNAME:CET
END:STANDARD
END:VTIMEZONE
END:VCALENDAR