BEGIN:VCALENDAR
VERSION:2.0
PRODID:-//wp-events-plugin.com//5.99912//EN
TZID:Europe/Berlin
X-WR-TIMEZONE:Europe/Berlin
BEGIN:VEVENT
UID:60429@punkt-linden.de
DTSTART;TZID=Europe/Berlin:20250830T180000
DTEND;TZID=Europe/Berlin:20250830T235900
DTSTAMP:20250823T193908Z
URL:https://punkt-linden.de/termine/eroeffnung-der-grossformatigen-install
 ation-von-wolf-boewig-vor-der-bethlehemkirche/
SUMMARY:Eröffnung der großformatigen Installation von Wolf Böwig vor de
 r Bethlehemkirche
DESCRIPTION:Ausstellungseröffnung mit Chören der Gesamtkirchengemeinde Li
 nden-Limmer\n\nDie Evangelisch-lutherische Gesamtkirchengemeinde Linden-Li
 mmer startet mit einem spannenden Kunstprojekt: Unter dem Titel „1m² Me
 nschenrecht“ wird auf den Außenflächen vor der Bethlehemkirche in Lin
 den-Nord für 30 Tage eine Freiluft-Kunstinstallation aufgebaut. Sie ist 
 auf Baugerüste mit 176 m² Bildfläche gespannt.\n\nDer Journalist und Fo
 tograf Wolf Böwig macht mit seinen Fotos aus Kriegs- und Krisengebieten 
 auf die Würde der menschlichen Existenz aufmerksam. Krieg\, Gewalt und F
 lucht sind für die Betroffenen real – für uns ereignen sie sich vor 
 allem in imaginären Räumen. Die Installation von Wolf Böwig lädt e
 in: Erinnerungskultur leben – Menschenrechte bewahren.\n\nInhaltliche Ei
 nführung: Pastorin Simone Liedtke\, Beauftragte für Kunst und Kultur der
  Landeskirche Hannovers\, Gudrun Meischner\, Vorstand Quartier e.V.\, Mode
 ration: Pastor Marcus Buchholz\, Führung durch die Ausstellung mit dem Fo
 tojournalisten Wolf Böwig\n\nDie Ausstellung mit zusätzlichem Programm (
 im Punkt-Linden Veranstaltungskalender zu finden) läuft bis zum 28. Septe
 mber 2025\, um 18 Uhr findet die Finissage statt.
ATTACH;FMTTYPE=image/jpeg:https://punkt-linden.de/wp-content/uploads/2025/
 08/Ausstellung-1m2-Menschenrecht.jpg
CATEGORIES:Ausstellung
LOCATION:Bethlehemkirche\, Bethlehemplatz 1\, Hannover\, 30451\, Deutschlan
 d
GEO:52.372863;9.701389
X-APPLE-STRUCTURED-LOCATION;VALUE=URI;X-ADDRESS=Bethlehemplatz 1\, Hannover
 \, 30451\, Deutschland;X-APPLE-RADIUS=100;X-TITLE=Bethlehemkirche:geo:52.3
 72863,9.701389
END:VEVENT
BEGIN:VTIMEZONE
TZID:Europe/Berlin
X-LIC-LOCATION:Europe/Berlin
BEGIN:DAYLIGHT
DTSTART:20250330T030000
TZOFFSETFROM:+0100
TZOFFSETTO:+0200
TZNAME:CEST
END:DAYLIGHT
END:VTIMEZONE
END:VCALENDAR