BEGIN:VCALENDAR
VERSION:2.0
PRODID:-//wp-events-plugin.com//5.99912//EN
TZID:Europe/Berlin
X-WR-TIMEZONE:Europe/Berlin
BEGIN:VEVENT
UID:62773@punkt-linden.de
DTSTART;TZID=Europe/Berlin:20260423T150000
DTEND;TZID=Europe/Berlin:20260423T150000
DTSTAMP:20260415T135224Z
URL:https://punkt-linden.de/termine/einweihungszeremonie-buecherschrank-am
 -pfarrlandplatz/
SUMMARY:Einweihungszeremonie Bücherschrank am Pfarrlandplatz
DESCRIPTION:Der Bücherschrank am Pfarrlandplatz wird nach einer Überarbei
 tung an neuem Standort wiedereröffnet. Die Stadt Hannover lädt zur Einwe
 ihung ein.&nbsp\;Weitere Informationen dazu in der hier verlinkten Punkt-L
 inden News
ATTACH;FMTTYPE=image/jpeg:https://punkt-linden.de/wp-content/uploads/2022/
 11/buecherschrank_pfarrlandplatz.jpg
LOCATION:Pfarrlandplatz\, Pfarrlandplatz\, Hannover\, 30451\, Deutschland
GEO:52.375652;9.708047
X-APPLE-STRUCTURED-LOCATION;VALUE=URI;X-ADDRESS=Pfarrlandplatz\, Hannover\,
  30451\, Deutschland;X-APPLE-RADIUS=100;X-TITLE=Pfarrlandplatz:geo:52.3756
 52,9.708047
END:VEVENT
BEGIN:VTIMEZONE
TZID:Europe/Berlin
X-LIC-LOCATION:Europe/Berlin
BEGIN:DAYLIGHT
DTSTART:20260329T030000
TZOFFSETFROM:+0100
TZOFFSETTO:+0200
TZNAME:CEST
END:DAYLIGHT
END:VTIMEZONE
END:VCALENDAR