BEGIN:VCALENDAR
VERSION:2.0
PRODID:-//wp-events-plugin.com//5.99912//EN
TZID:Europe/Berlin
X-WR-TIMEZONE:Europe/Berlin
BEGIN:VEVENT
UID:59833@punkt-linden.de
DTSTART;TZID=Europe/Berlin:20250619T180000
DTEND;TZID=Europe/Berlin:20250619T235900
DTSTAMP:20250617T092042Z
URL:https://punkt-linden.de/termine/einladung-zur-limmer-kiezfest-planung/
SUMMARY:Einladung zur Limmer Kiezfest-Planung
DESCRIPTION:Seid herzlich eingeladen zum nächsten Planungstreffen für das
  Limmer Kiezfest (20. und 21. September 2025). Es findet statt am Donnerst
 ag\, 19. Juni um 18 Uhr am Parklet\, Tegtmeyerstraße (MaMaRü-Platz gegen
 über Haltestelle Brunnenstraße\, wetterabhängig\, sonst in der Varrelma
 nnstraße 12\, Garage im Hinterhof).\n\nBei Unsicherheit bitte vorher auf 
 die Homepage schauen oder Uwe unter 0171-4873431 anrufen.\n\nOrga-Team Lim
 mer Kiezfest in TTH e.V.\nc/o Uwe Staade\nGroße Straße 17\n30453 Hannove
 r\nT. 0511-862252\nM. 0171-4873431 (Whats App\, Signal\, Telegram\, MMS)\n
 www.wirinlimmer.de
CATEGORIES:Sonstiges
LOCATION:Parklet Tegtmeyerstraße/Limmer\, Tegtmeyerstraße 17\, Hannover\,
  30453\, Deutschland
GEO:52.377726;9.685288
X-APPLE-STRUCTURED-LOCATION;VALUE=URI;X-ADDRESS=Tegtmeyerstraße 17\, Hanno
 ver\, 30453\, Deutschland;X-APPLE-RADIUS=100;X-TITLE=Parklet Tegtmeyerstra
 ße/Limmer:geo:52.377726,9.685288
END:VEVENT
BEGIN:VTIMEZONE
TZID:Europe/Berlin
X-LIC-LOCATION:Europe/Berlin
BEGIN:DAYLIGHT
DTSTART:20250330T030000
TZOFFSETFROM:+0100
TZOFFSETTO:+0200
TZNAME:CEST
END:DAYLIGHT
END:VTIMEZONE
END:VCALENDAR