BEGIN:VCALENDAR
VERSION:2.0
PRODID:-//wp-events-plugin.com//5.99912//EN
TZID:Europe/Berlin
X-WR-TIMEZONE:Europe/Berlin
BEGIN:VEVENT
UID:59971@punkt-linden.de
DTSTART;TZID=Europe/Berlin:20250711T200000
DTEND;TZID=Europe/Berlin:20250711T235900
DTSTAMP:20250702T093640Z
URL:https://punkt-linden.de/termine/dream-theater/
SUMMARY:Dream Theater
DESCRIPTION:Die Progressive Metal-Legenden Dream Theater feiern 2025 ihr 40
 -jähriges Bestehen mit einer großen Tour. Die Rückkehr von Gründungssc
 hlagzeuger Mike Portnoy vereint das legendäre Line-up erstmals seit 2009 
 wieder auf der Bühne: James LaBrie\, John Petrucci\, John Myung\, Jordan 
 Rudess und Portnoy präsentieren Klassiker und Fan-Favorites.
CATEGORIES:Musik, Konzert
LOCATION:Parkbühne Hannover\,  Ferdinand-Wilhelm-Fricke-Weg 8\, Hannover\,
  30169\, Deutschland
GEO:52.35668;9.73044
X-APPLE-STRUCTURED-LOCATION;VALUE=URI;X-ADDRESS= Ferdinand-Wilhelm-Fricke-W
 eg 8\, Hannover\, 30169\, Deutschland;X-APPLE-RADIUS=100;X-TITLE=Parkbühn
 e Hannover:geo:52.35668,9.73044
END:VEVENT
BEGIN:VTIMEZONE
TZID:Europe/Berlin
X-LIC-LOCATION:Europe/Berlin
BEGIN:DAYLIGHT
DTSTART:20250330T030000
TZOFFSETFROM:+0100
TZOFFSETTO:+0200
TZNAME:CEST
END:DAYLIGHT
END:VTIMEZONE
END:VCALENDAR