BEGIN:VCALENDAR
VERSION:2.0
PRODID:-//wp-events-plugin.com//5.99912//EN
TZID:Europe/Berlin
X-WR-TIMEZONE:Europe/Berlin
BEGIN:VEVENT
UID:60937@punkt-linden.de
DTSTART;TZID=Europe/Berlin:20251101T140000
DTEND;TZID=Europe/Berlin:20251101T235900
DTSTAMP:20251013T144442Z
URL:https://punkt-linden.de/termine/dia-de-los-muertos/
SUMMARY:Día de los Muertos
DESCRIPTION:Wir feiern das Leben\, indem wir uns unserer Endlichkeit bewuss
 t werden. Zu Beginn schmücken wir gemeinsam den Raum und unseren Altar mi
 t Fotos\, Erinngerungsstücken und natürlich Zuckerschädeln. Es gibt mex
 ikanische Getränke und die Möglichkeit\, sich passend zum Tag schminken 
 zu lassen. 
CATEGORIES:Party, Feiern
LOCATION:metavier – Galerie vom Anfang und Ende\, Minister-Stüve-Straße
  14\, Hannover\, 30449\, Deutschland
X-APPLE-STRUCTURED-LOCATION;VALUE=URI;X-ADDRESS=Minister-Stüve-Straße 14\
 , Hannover\, 30449\, Deutschland;X-APPLE-RADIUS=100;X-TITLE=metavier – G
 alerie vom Anfang und Ende:geo:0,0
END:VEVENT
BEGIN:VTIMEZONE
TZID:Europe/Berlin
X-LIC-LOCATION:Europe/Berlin
BEGIN:STANDARD
DTSTART:20251026T020000
TZOFFSETFROM:+0200
TZOFFSETTO:+0100
TZNAME:CET
END:STANDARD
END:VTIMEZONE
END:VCALENDAR