BEGIN:VCALENDAR
VERSION:2.0
PRODID:-//wp-events-plugin.com//5.99912//EN
TZID:Europe/Berlin
X-WR-TIMEZONE:Europe/Berlin
BEGIN:VEVENT
UID:62762@punkt-linden.de
DTSTART;TZID=Europe/Berlin:20260426T180000
DTEND;TZID=Europe/Berlin:20260426T235900
DTSTAMP:20260414T113523Z
URL:https://punkt-linden.de/termine/der-allerweltsladen-zu-gast-im-gottesd
 ienst-in-der-bethlehemkirche/
SUMMARY:Der Allerweltsladen zu Gast im Gottesdienst in der Bethlehemkirche
DESCRIPTION:Der Allerweltsladen auf der Limmerstraße ist eine Institution\
 , fair gehandelte Lebensmittel\, Gebrauchsgegenstände und Kunsthandwerk a
 us Afrika\, Asien und Lateinamerika gibt es hier. Der Allerweltsladen ist 
 zu Gast im Gottesdienst in der Bethlehemkirche am 26. April. Vertreter*inn
 en des Ladens und Pastor Marcus Buchholz thematisieren im Talk „Nachhalt
 iges Leben im Stadtteil und weltweit“.\n\nAuch die Zusammenarbeit zwisch
 en der Gesamtkirchengemeinde Linden-Limmer und dem Allerweltsladen werden 
 erörtert. Die Bethlehemband unter der Leitung von Kirchenmusiker Jürgen 
 Begemann spielt dazu den passenden Song „We are the world“.\n\nInteres
 sierte\, Freundinnen und Freunde der Bethlehemkirche sind herzlich eingela
 den. Der Wort &amp\; Musik-Gottesdienst dauert etwa eine Stunde\, im Ansch
 luss ist Bistro in der Kirche.
CATEGORIES:Engagement, Ehrenamt,Kirche, Religion,Musik, Konzert
LOCATION:Bethlehemkirche\, Bethlehemplatz 1\, Hannover\, 30451\, Deutschlan
 d
GEO:52.372863;9.701389
X-APPLE-STRUCTURED-LOCATION;VALUE=URI;X-ADDRESS=Bethlehemplatz 1\, Hannover
 \, 30451\, Deutschland;X-APPLE-RADIUS=100;X-TITLE=Bethlehemkirche:geo:52.3
 72863,9.701389
END:VEVENT
BEGIN:VTIMEZONE
TZID:Europe/Berlin
X-LIC-LOCATION:Europe/Berlin
BEGIN:DAYLIGHT
DTSTART:20260329T030000
TZOFFSETFROM:+0100
TZOFFSETTO:+0200
TZNAME:CEST
END:DAYLIGHT
END:VTIMEZONE
END:VCALENDAR