BEGIN:VCALENDAR
VERSION:2.0
PRODID:-//wp-events-plugin.com//5.99912//EN
TZID:Europe/Berlin
X-WR-TIMEZONE:Europe/Berlin
BEGIN:VEVENT
UID:61650@punkt-linden.de
DTSTART;TZID=Europe/Berlin:20260116T200000
DTEND;TZID=Europe/Berlin:20260116T200000
DTSTAMP:20260106T170003Z
URL:https://punkt-linden.de/termine/denlarifriends-deutsch-rock-pop-punk-d
 oehren-bei-liebenburg/
SUMMARY:DENLARI & FRIENDS (Deutsch Rock / Pop Punk / Döhren bei Liebenburg
 )
DESCRIPTION:DenLari feiert mit DenLari &amp\; Friends sein offizielles Live
 -Debüt und steht dabei mit Band auf derBühne. Seit seiner Schulzeit mach
 t er Musik\, spielte in mehreren Bands und hat jetzt seineneigenen Stil ge
 funden – eine Mischung aus Deutschrock\, Pop und Punk.Seine Songs erzäh
 len persönliche Geschichten\, mal emotional\, mal energiegeladen\, immer 
 ehrlich.Mit seinem ersten eigenen Konzert beginnt für DenLari ein neues K
 apitel\, das er gemeinsam mitseinem Publikum eröffnen will.\n\nLisa Strat
  – musikalischer Freigeist und MultiinstrumentalistinWährend ihrer Perf
 ormance präsentiert die Autodidaktin ihr breites musikalisches Spektrummi
 ttels verschiedener Instrumente. Charakteristisch ist dabei der Einsatz ih
 rer Loopstation\,wodurch sie es schafft\, den Sound einer ganzen Band in e
 iner Person zu vereinen.Mit ihren dynamischen Gitarrenklängen und den exp
 erimentellen Perkussionsklängen lässt sieGenregrenzen hinter sich und bi
 etet einen emotional bunten Cross-over Mix aus Indiepop\, Folkund Elektron
 ic.\n[image src="/assets/Lisa-komprimiert.jpg" id="3908" width="233" heigh
 t="311" class="leftAlone ss-htmleditorfield-file image"]\nSash Avery – D
 eutschpop-Balladen mit TiefeSash Avery stammt aus dem schönen Osnabrücke
 r Land und veröffentlichte unter dem Label NewWorld Records die Songs „
 Stille“ und „Schon OK“. Als ehemaliger DJ begleitet ihn Musik bereit
 sseit der Schulzeit\, heute prägt sie seinen eigenen\, gefühlvollen Deut
 schpop-Balladenstil.Seine Musik zeigt eine bemerkenswerte emotionale Viels
 eitigkeit: „Stille“ überzeugt alsintrospektive Ballade mit zurückhal
 tender\, dennoch kraftvoller Atmosphäre\, während „Schon OK“mit trei
 bendem Beat\, eingängigen Hooks und Themen wie Selbstakzeptanz und Alltag
 sdruckberührt.Avery verbindet Pop\, R&amp\;B-Elemente\; und elektronische
  Anklänge zu einer modernen\, hybridenKlanglandschaft\, die Verletzlichke
 it\, Hoffnung und Identität in einer schnelllebigen Welt erfahrbarmacht.\
 n[image src="/assets/Sash-Avery.jpg" id="3909" width="238" height="192" cl
 ass="leftAlone ss-htmleditorfield-file image"]\nSeelenherz – Emotionale 
 Pop-Balladen voller AuthentizitätTobi\, bekannt unter seinem Künstlernam
 en Seelenherz\, ist ein 45-jähriger Musiker\, der sich in denletzten fün
 f Jahren auf TikTok eine treue Fangemeinde aufgebaut hat. Mit Leidenschaft
  undAusdauer verfolgte er vier Jahre lang seinen kreativen Weg\, bis er sc
 hließlich von derMusikindustrie entdeckt wurde und einen Plattenvertrag b
 ei New World Records unterzeichnete.Sein musikalischer Fokus liegt auf ein
 fühlsamen Pop-Balladen\, die durch emotionale Tiefe\,Ehrlichkeit und pers
 önliche Geschichten geprägt sind. Mit seinem ersten Live-Auftritt stehtS
 eelenherz nun an einem besonderen Wendepunkt – bereit\, seine Musik und 
 seine Persönlichkeitendlich direkt vor Publikum zu zeigen und seine Fans 
 live zu begeistern.\n[image src="/assets/Seelenherz.jpg" id="3910" width="
 245" height="175" class="leftAlone ss-htmleditorfield-file image"]\nSteffe
 n Hunsen (Stef) – Pop &amp\; Dance EntertainmentSteffen Hunsen\, bekannt
  als Stef\, ist eine charismatische und vielseitige Bühnenpersönlichkeit
 \, dieihre Leidenschaft für Musik und Entertainment seit Jahren lebt. Dur
 ch TV-Produktionen wie „DasWunder von Lengede“\, „Genial Daneben“\
 , „Frauentausch“ und „Die Tester“ wurde er einem breitenPublikum b
 ekannt und arbeitete dabei mit namhaften Künstlern zusammen.Auch im Reali
 ty-TV machte er auf sich aufmerksam\, als er einen Teilnehmer des australi
 schenDschungelcamps begleitete. Heute konzentriert sich Stef ganz auf sein
 e Musik: modernePop-Elemente treffen auf tanzbare Dance-Beats\, geprägt v
 on Gefühl\, positiver Energie undinternationalem Sound.Mit „Wir beide
 “ präsentiert er seine emotionale Seite\, während „Good Times“ und
  seine neue Single„Back To Me“ Disco-Vibes\, Club-Feeling und gute Lau
 ne auf die Tanzflächen bringen.\n[image src="/assets/Steffen-Hunsen.jpg" 
 id="3911" width="248" height="165" class="leftAlone ss-htmleditorfield-fil
 e image"]Tickets: 15\,- € Hier Tickets bestellen
CATEGORIES:Musik, Konzert
LOCATION:Béi Chéz Heinz\, Liepmannstraße 7b\, Hannover\, 30453\, Deutsch
 land
GEO:52.37195;9.69636
X-APPLE-STRUCTURED-LOCATION;VALUE=URI;X-ADDRESS=Liepmannstraße 7b\, Hannov
 er\, 30453\, Deutschland;X-APPLE-RADIUS=100;X-TITLE=Béi Chéz Heinz:geo:5
 2.37195,9.69636
END:VEVENT
BEGIN:VTIMEZONE
TZID:Europe/Berlin
X-LIC-LOCATION:Europe/Berlin
BEGIN:STANDARD
DTSTART:20251026T020000
TZOFFSETFROM:+0200
TZOFFSETTO:+0100
TZNAME:CET
END:STANDARD
END:VTIMEZONE
END:VCALENDAR