BEGIN:VCALENDAR
VERSION:2.0
PRODID:-//wp-events-plugin.com//5.99912//EN
TZID:Europe/Berlin
X-WR-TIMEZONE:Europe/Berlin
BEGIN:VEVENT
UID:61289@punkt-linden.de
DTSTART;TZID=Europe/Berlin:20251123T123000
DTEND;TZID=Europe/Berlin:20251123T235900
DTSTAMP:20251120T090843Z
URL:https://punkt-linden.de/termine/das-deutsche-volk/
SUMMARY:"Das Deutsche Volk"
DESCRIPTION:In der Nacht des 19. Februar 2020 erschießt ein Rassist neun j
 unge Menschen in Hanau. Zurück bleiben trauernde Familien und Überleben
 de\, die nicht nur für die Ermordeten\, sondern auch um Wahrheit und Ger
 echtigkeit kämpfen. Vier Jahre lang begleitet Regisseur Marcin Wierzchows
 ki ihren unermüdlichen Widerstand gegen das Vergessen – und stellt die
  aktuell wieder drängende Frage: Wer gehört zu Deutschland und wer nicht
 ? An der Filmvorführung nimmt auch der Filmemacher Marcin Wierzchowski te
 il.\n\nDer Film wird im Rahmen eines Projekts von Start2Dance e.V.und dem 
 Fluid Identity Netzwerk tanzRAUM gezeigt: "KULTURMOSAIK". Es findet vom 8.
 -23. November statt.
ATTACH;FMTTYPE=image/jpeg:https://punkt-linden.de/wp-content/uploads/2025/
 11/Screenshot-2025-11-19-das-deutsche-volk.png
CATEGORIES:Kino, Film,Politik
LOCATION:Faust - Kulturzentrum\, Zur Bettfedernfabrik 3\, Hannover\, Nieder
 sachsen\, 30451\, Deutschland
GEO:52.375996;9.710547
X-APPLE-STRUCTURED-LOCATION;VALUE=URI;X-ADDRESS=Zur Bettfedernfabrik 3\, Ha
 nnover\, Niedersachsen\, 30451\, Deutschland;X-APPLE-RADIUS=100;X-TITLE=Fa
 ust - Kulturzentrum:geo:52.375996,9.710547
END:VEVENT
BEGIN:VTIMEZONE
TZID:Europe/Berlin
X-LIC-LOCATION:Europe/Berlin
BEGIN:STANDARD
DTSTART:20251026T020000
TZOFFSETFROM:+0200
TZOFFSETTO:+0100
TZNAME:CET
END:STANDARD
END:VTIMEZONE
END:VCALENDAR