BEGIN:VCALENDAR
VERSION:2.0
PRODID:-//wp-events-plugin.com//5.99912//EN
TZID:Europe/Berlin
X-WR-TIMEZONE:Europe/Berlin
BEGIN:VEVENT
UID:62782@punkt-linden.de
DTSTART;TZID=Europe/Berlin:20260523T220000
DTEND;TZID=Europe/Berlin:20260523T235900
DTSTAMP:20260415T162647Z
URL:https://punkt-linden.de/termine/csd-aftershow-party/
SUMMARY:CSD AFTERSHOW PARTY
DESCRIPTION:Zwischen Glitzer\, offenen Herzen und pulsierenden Beats entste
 ht ein Raum\, in dem wir alle so sein können\, wie wir sind: stolz\, frei
  und echt.\nZum Start gibt’s für alle einen Free Shot aufs Haus.\nMusik
 alische Unterstützung: DJ AMBROSIA JUICE\, DJ AETLEX\, DJ LEVIN
CATEGORIES:Musik, Konzert
LOCATION:Kulturpalast Linden\, Deisterstraße 24\, Hannover\, 30449\, Deuts
 chland
GEO:52.366317;9.719204
X-APPLE-STRUCTURED-LOCATION;VALUE=URI;X-ADDRESS=Deisterstraße 24\, Hannove
 r\, 30449\, Deutschland;X-APPLE-RADIUS=100;X-TITLE=Kulturpalast Linden:geo
 :52.366317,9.719204
END:VEVENT
BEGIN:VTIMEZONE
TZID:Europe/Berlin
X-LIC-LOCATION:Europe/Berlin
BEGIN:DAYLIGHT
DTSTART:20260329T030000
TZOFFSETFROM:+0100
TZOFFSETTO:+0200
TZNAME:CEST
END:DAYLIGHT
END:VTIMEZONE
END:VCALENDAR