BEGIN:VCALENDAR
VERSION:2.0
PRODID:-//wp-events-plugin.com//5.99912//EN
TZID:Europe/Berlin
X-WR-TIMEZONE:Europe/Berlin
BEGIN:VEVENT
UID:60747@punkt-linden.de
DTSTART;TZID=Europe/Berlin:20251020T200000
DTEND;TZID=Europe/Berlin:20251020T200000
DTSTAMP:20250925T160004Z
URL:https://punkt-linden.de/termine/cleopatrick-rock-duo-kanada/
SUMMARY:CLEOPATRICK (Rock-Duo / Kanada)
DESCRIPTION:Nach einer erfolgreichen UK- und Irland-Tour kommt das kanadisc
 he Rockduo CLEOPATRICK im Oktober 2025 für sechs exklusive Konzerte nach 
 Deutschland. Mit dabei ist ihr zweites Album „FAKE MOON“\, ein mutiger
 \, experimenteller Schritt\, der Themen wie Identität\, Gruppenzwang und 
 Desinformation behandelt.\nSeit ihrer Kindheit in der kanadischen Kleinsta
 dt Cobourg sind Luke Gruntz (Gesang\, Gitarre) und Ian Fraser (Schlagzeug)
  unzertrennlich – musikalisch wie persönlich. Ihr Durchbruch gelang ihn
 en mit der EP „the boys“ (2018) und dem Song „Hometown“\, gefolgt 
 vom gefeierten Debütalbum „BUMMER“ (2021)\, das für seine rohe Ehrli
 chkeit bekannt wurde.\nCleopatrick stehen für einen DIY-Ansatz ohne Major
 -Label\, fernab von Rock-Klischees – mit einem Sound zwischen fuzzigem R
 ock\, Hip-Hop-Energie und emotionaler Tiefe. Die kommenden Live-Shows vers
 prechen eine intensive Mischung aus alten Hymnen und neuem Material – di
 rekt\, laut und ehrlich.\nWer echten\, relevanten Rock sucht\, sollte sich
  diese Shows nicht entgehen lassen.\n\nMelodic Hardcore\, Shoegaze und Emo
  in Bestform: Das neue\, selbstbetitelte Album von Chastity liefert wuchti
 ge Gitarren\, brutale Bass- und Drumsounds und kompromisslose Energie. Ent
 standen aus der DIY-Punkszene in Whitby (Ontario)\, steht Chastity für Ge
 meinschaft\, rohe Power und grenzenlose Live-Shows\, bereit auch hier alle
 s wegzufegen.\nTickets: 30\,-€ Hier Tickets bestellen
CATEGORIES:Musik, Konzert
LOCATION:Béi Chéz Heinz\, Liepmannstraße 7b\, Hannover\, 30453\, Deutsch
 land
GEO:52.37195;9.69636
X-APPLE-STRUCTURED-LOCATION;VALUE=URI;X-ADDRESS=Liepmannstraße 7b\, Hannov
 er\, 30453\, Deutschland;X-APPLE-RADIUS=100;X-TITLE=Béi Chéz Heinz:geo:5
 2.37195,9.69636
END:VEVENT
BEGIN:VTIMEZONE
TZID:Europe/Berlin
X-LIC-LOCATION:Europe/Berlin
BEGIN:DAYLIGHT
DTSTART:20250330T030000
TZOFFSETFROM:+0100
TZOFFSETTO:+0200
TZNAME:CEST
END:DAYLIGHT
END:VTIMEZONE
END:VCALENDAR