BEGIN:VCALENDAR
VERSION:2.0
PRODID:-//wp-events-plugin.com//5.99912//EN
TZID:Europe/Berlin
X-WR-TIMEZONE:Europe/Berlin
BEGIN:VEVENT
UID:59585@punkt-linden.de
DTSTART;TZID=Europe/Berlin:20250829T183000
DTEND;TZID=Europe/Berlin:20250829T183000
DTSTAMP:20250520T160005Z
URL:https://punkt-linden.de/termine/brutal-birthday-bash-deathmetal-hardco
 re-deathcore/
SUMMARY:BRUTAL BIRTHDAY BASH – Deathmetal\, Hardcore\, Deathcore
DESCRIPTION:Am 29.08.2025 veranstalten Tyrant s Paradox ihre BRUTAL BIRTHDA
 Y BASH!Anlässlich des 30. Geburtstages von Drummer Philipp gibt es eine o
 rdentliche Portion Metal\, die sich gewaschen hat.Mit dabei sind Inherit T
 he Curse\, Necroknight\, Tyrant s Paradox und Iconvict!&nbsp\;Inherit The 
 Curse (Nihilistic Hardcore / Bremen)Inherit the Curse aus Bremen entfessel
 n eine düstere\, kraftvolle Mischung ausHardcore\, Death Metal und Grindc
 ore. Mit unbändiger Energie undüberwältigender Intensität reißen sie 
 den Hörer in ihren unbarmherzigen Strudelaus roher Emotion und Wucht.Im A
 pril 2022 in Bremen von Martin\, Stephie\, Hauke und Eike gegründet. Wir 
 wollen Musik machen\, die uns im Blut und am Herzen liegt. Die Schnittmeng
 e ist Hardcore\, verwebt mit Elementen aus Death Metal\, Grindcore und Bla
 ck Metal - sowohl modern als auch klassisch.&nbsp\;Necroknight (Epic Death
  Metal / Münster (NRW))Necroknight entführt euch mit ihrem düsteren Sou
 nd in eine andere Welt. Gegründet im Jahr 2021\, liefern sie brachiale Kl
 änge und eine mitreißende Bühnenpräsenz. Mit ihren tiefgründigen Text
 en\, donnerndem Schlagzeugspiel und kraftvollen Riffs werden sie euch in i
 hren Bann ziehen und für Gänsehautmomente sorgen.Bang your head until yo
 u re dead - stay necro!&nbsp\;Tyrant´s Paradox (Deathmetal - Hardcore / H
 annover)Tyrant´s Paradox ist eine junge Metal-Band aus Hannover und Braun
 schweig (DE)\, in der diverse Einflüsse aus Death- und Black-Metal\, Deat
 hcore\, Hardcore und Metalcore aufeinandertreffen. Gemeinsam mit 1408produ
 ctions (CRITICAL MESS\, ANGST) haben sie dafür an einem Sound gearbeitet\
 , der ebenso sehr modern wie retro ist\, in dem klangliche Klarheit und Br
 utalität dicht beieinanderliegen. Die Band und ihre Texte verstehen sich 
 als explizit antifaschistisch\, antirassistisch sowie antisexistisch\, und
  hoffen\, auch aus einer privilegierten Position heraus einen bescheidenen
  Beitrag zum Diskurs um eine bessere Welt leisten zu können.Tyrant´s Par
 adox&nbsp\; sind Philipp (Drums)\, Henry und Chris (Gitarre)\, Gordon (Bas
 s) und Lucas (Vocals).&nbsp\;ICONVICT (Metal – Hardcore / Hannover)ICONV
 ICT ist eine 5-köpfige Hardcore/Metal Band aus Hannover. Ende 2023 haben 
 sie ihre erste EP „Sophisticated Cuisine“ veröffentlicht. 5 Tracks ü
 ber die Arroganz der Menschheit\, Selbstmanipulation\, veraltete Tradition
 en\, Schulzeit und eine dystopische Welt in der die Hoffnung noch nicht ga
 nz ausgestorben ist. Mit viel Wut und einer Priese Selbstreflexion auf dem
  Tisch serviert.Tickets: 15\,-€ Hier Tickets bestellen
CATEGORIES:Musik, Konzert
LOCATION:Béi Chéz Heinz\, Liepmannstraße 7b\, Hannover\, 30453\, Deutsch
 land
GEO:52.37195;9.69636
X-APPLE-STRUCTURED-LOCATION;VALUE=URI;X-ADDRESS=Liepmannstraße 7b\, Hannov
 er\, 30453\, Deutschland;X-APPLE-RADIUS=100;X-TITLE=Béi Chéz Heinz:geo:5
 2.37195,9.69636
END:VEVENT
BEGIN:VTIMEZONE
TZID:Europe/Berlin
X-LIC-LOCATION:Europe/Berlin
BEGIN:DAYLIGHT
DTSTART:20250330T030000
TZOFFSETFROM:+0100
TZOFFSETTO:+0200
TZNAME:CEST
END:DAYLIGHT
END:VTIMEZONE
END:VCALENDAR