BEGIN:VCALENDAR
VERSION:2.0
PRODID:-//wp-events-plugin.com//5.99912//EN
TZID:Europe/Berlin
X-WR-TIMEZONE:Europe/Berlin
BEGIN:VEVENT
UID:61180@punkt-linden.de
DTSTART;TZID=Europe/Berlin:20251129T200000
DTEND;TZID=Europe/Berlin:20251129T200000
DTSTAMP:20251109T170005Z
URL:https://punkt-linden.de/termine/boozeglory-oi-punk-london/
SUMMARY:BOOZE & GLORY (Oi-Punk / London)
DESCRIPTION:Sechs Jahre nach ihrem letzten Studioalbum melden sich BOOZE &a
 mp\; GLORY zurück – und zwar genau dort\, wo alles begann: auf den Stra
 ßen. Mit ihrem neuen Album „Whiskey Tango Foxtrot”\, das am 12. Septe
 mber 2025 auf ihrem neuen Label Concrete Jungle Records erscheint\, kehrt 
 die Band kompromisslos zu ihren Streetpunk-Wurzeln zurück.\n\n&nbsp\;Tick
 ets: TBA Hier Tickets bestellen
CATEGORIES:Musik, Konzert
LOCATION:Béi Chéz Heinz\, Liepmannstraße 7b\, Hannover\, 30453\, Deutsch
 land
GEO:52.37195;9.69636
X-APPLE-STRUCTURED-LOCATION;VALUE=URI;X-ADDRESS=Liepmannstraße 7b\, Hannov
 er\, 30453\, Deutschland;X-APPLE-RADIUS=100;X-TITLE=Béi Chéz Heinz:geo:5
 2.37195,9.69636
END:VEVENT
BEGIN:VTIMEZONE
TZID:Europe/Berlin
X-LIC-LOCATION:Europe/Berlin
BEGIN:STANDARD
DTSTART:20251026T020000
TZOFFSETFROM:+0200
TZOFFSETTO:+0100
TZNAME:CET
END:STANDARD
END:VTIMEZONE
END:VCALENDAR