BEGIN:VCALENDAR
VERSION:2.0
PRODID:-//wp-events-plugin.com//5.99912//EN
TZID:Europe/Berlin
X-WR-TIMEZONE:Europe/Berlin
BEGIN:VEVENT
UID:61403@punkt-linden.de
DTSTART;TZID=Europe/Berlin:20251211T200000
DTEND;TZID=Europe/Berlin:20251211T200000
DTSTAMP:20251207T170004Z
URL:https://punkt-linden.de/termine/blood-command-deathpop-norwegen/
SUMMARY:BLOOD COMMAND (Deathpop / Norwegen)
DESCRIPTION:BLOOD COMMANDTHREE STRIPES LIVE TOUR 2025\nMit einer explosiven
  Mischung aus Hardcore\, Punkrock und Pop-Appeal – selbstbewusst als „
 Deathpop“ bezeichnet – hat sich Blood Command aus Bergen seit 2008 ein
 en einzigartigen Platz in der alternativen Musikszene erkämpft. Späteste
 ns seit der charismatischen Nikki Brumen am Mikrofon ist klar: Diese Band 
 liefert nicht nur musikalisch\, sondern auch live absolute Abriss-Shows.\n
 Im Frühjahr überzeugten sie als gefeierter Support der Baboon Show\, jet
 zt kehren sie mit voller Wucht auf Headline-Tour zurück! Ihre neue Single
  „All I Ever Hate About Is You“ versprüht Vorfreude auf den Festivals
 ommer – und macht klar\, wohin die Reise im Winter geht: kompromisslos n
 ach vorn. Mit ihrer rebellischen Attitüde\, messerscharfen Hooks und eine
 r intensiven Live-Energie wird die THREE STRIPES LIVE TOUR 2025 ein Pflich
 ttermin für Fans harter\, aber zugänglicher Klänge. Von Berlin bis Wars
 chau – 13 Shows\, bei denen kein Stein auf dem anderen bleibt. Wer Blood
  Command live erlebt\, versteht: Das ist keine Band – das ist ein Manife
 st.Tickets: tba Hier Tickets bestellen
CATEGORIES:Musik, Konzert
LOCATION:Béi Chéz Heinz\, Liepmannstraße 7b\, Hannover\, 30453\, Deutsch
 land
GEO:52.37195;9.69636
X-APPLE-STRUCTURED-LOCATION;VALUE=URI;X-ADDRESS=Liepmannstraße 7b\, Hannov
 er\, 30453\, Deutschland;X-APPLE-RADIUS=100;X-TITLE=Béi Chéz Heinz:geo:5
 2.37195,9.69636
END:VEVENT
BEGIN:VTIMEZONE
TZID:Europe/Berlin
X-LIC-LOCATION:Europe/Berlin
BEGIN:STANDARD
DTSTART:20251026T020000
TZOFFSETFROM:+0200
TZOFFSETTO:+0100
TZNAME:CET
END:STANDARD
END:VTIMEZONE
END:VCALENDAR