BEGIN:VCALENDAR
VERSION:2.0
PRODID:-//wp-events-plugin.com//5.99912//EN
TZID:Europe/Berlin
X-WR-TIMEZONE:Europe/Berlin
BEGIN:VEVENT
UID:60952@punkt-linden.de
DTSTART;TZID=Europe/Berlin:20251112T220000
DTEND;TZID=Europe/Berlin:20251112T220000
DTSTAMP:20251014T160004Z
URL:https://punkt-linden.de/termine/bier-bachelor-2025-wise/
SUMMARY:Bier Bachelor 2025 WiSe
DESCRIPTION:10 Bars\, 10 Stempel\, 10 x Prost + 1 Abschlussprüfung = Bier 
 Bachelor\nUm Euern Bier Bachelor zu erhalten\, müsst ihr in 10 der teilne
 hmenden Bars &amp\; Kneipen mindestens 1 Getränk Eurer Wahl trinken (ggf.
  auch alkoholfrei). Dafür bekommt Ihr pro Location einen Stempel auf Euer
  Bachelor Zeugnis. Habt Ihr innerhalb von 5 Stunden die Stempel gesammelt\
 , begebt Ihr Euch zur Abschluss Location\, um dort vor der Jury Eure Prüf
 ung abzulegen und eine Note zu erhalten.\nWem das alles zu stressig ist\, 
 kann auch einfach so rumkommen und feiern. Dafür nehmen wir 5\,- €Ticke
 ts: 5\,-€ nur für die Party\, ohne Bierbachelor
CATEGORIES:Musik, Konzert
LOCATION:Béi Chéz Heinz\, Liepmannstraße 7b\, Hannover\, 30453\, Deutsch
 land
GEO:52.37195;9.69636
X-APPLE-STRUCTURED-LOCATION;VALUE=URI;X-ADDRESS=Liepmannstraße 7b\, Hannov
 er\, 30453\, Deutschland;X-APPLE-RADIUS=100;X-TITLE=Béi Chéz Heinz:geo:5
 2.37195,9.69636
END:VEVENT
BEGIN:VTIMEZONE
TZID:Europe/Berlin
X-LIC-LOCATION:Europe/Berlin
BEGIN:STANDARD
DTSTART:20251026T020000
TZOFFSETFROM:+0200
TZOFFSETTO:+0100
TZNAME:CET
END:STANDARD
END:VTIMEZONE
END:VCALENDAR