BEGIN:VCALENDAR
VERSION:2.0
PRODID:-//wp-events-plugin.com//5.99912//EN
TZID:Europe/Berlin
X-WR-TIMEZONE:Europe/Berlin
BEGIN:VEVENT
UID:60922@punkt-linden.de
DTSTART;TZID=Europe/Berlin:20251101T193000
DTEND;TZID=Europe/Berlin:20251101T235900
DTSTAMP:20251012T202551Z
URL:https://punkt-linden.de/termine/betrogen-von-harold-pinter-3/
SUMMARY:„Betrogen“ von Harold Pinter
DESCRIPTION:Deutsch von Heinrich Maria Ledig-Rowohlt\n\nEmma (Miriam Gruenk
 e) trifft ihren ehemaligen Geliebten Jerry (Frederic Oberheide) und berich
 tet vom Ende ihrer Ehe mit Robert (Joachim Meyer). Doch das Gespräch wirf
 t Fragen auf: Wer wusste wann von den Affären? Wer hat geschwiegen – un
 d warum? Und vor allem: Wer hat hier eigentlich wen betrogen?\n\nNobelprei
 sträger Pinter erzählt rückwärts – von der letzten Begegnung bis zum
  ersten Verrat. Ein intensives Kammerspiel über Nähe\, Täuschung und di
 e fragile Konstruktion von Wahrheit.\n\nRegie: Jörg Lange
ATTACH;FMTTYPE=image/jpeg:https://punkt-linden.de/wp-content/uploads/2025/
 10/Theater-mit-Frederic-Oberheide-Miriam-Gruenke.jpg
CATEGORIES:Kleinkunst, Schauspiel
LOCATION:Mittwoch:Theater\,  Am Lindener Berge 38\, Hannover\, 30449\, Deut
 schland
GEO:52.362884;9.705406
X-APPLE-STRUCTURED-LOCATION;VALUE=URI;X-ADDRESS= Am Lindener Berge 38\, Han
 nover\, 30449\, Deutschland;X-APPLE-RADIUS=100;X-TITLE=Mittwoch:Theater:ge
 o:52.362884,9.705406
END:VEVENT
BEGIN:VTIMEZONE
TZID:Europe/Berlin
X-LIC-LOCATION:Europe/Berlin
BEGIN:STANDARD
DTSTART:20251026T020000
TZOFFSETFROM:+0200
TZOFFSETTO:+0100
TZNAME:CET
END:STANDARD
END:VTIMEZONE
END:VCALENDAR