BEGIN:VCALENDAR
VERSION:2.0
PRODID:-//wp-events-plugin.com//5.99912//EN
TZID:Europe/Berlin
X-WR-TIMEZONE:Europe/Berlin
BEGIN:VEVENT
UID:62083@punkt-linden.de
DTSTART;TZID=Europe/Berlin:20260422T150000
DTEND;TZID=Europe/Berlin:20260422T235900
DTSTAMP:20260203T145812Z
URL:https://punkt-linden.de/termine/besuch-im-buchdruck-museum-8/
SUMMARY:Besuch im Buchdruck-Museum
DESCRIPTION:Im Laufe der Zeit haben sich die Schriftsetzer\, Buchdrucker un
 d Buchbinder eine eigene Sprache entwickelt. Diese Sprache ist schwer zu v
 erstehen. Wenn Sie mehr wissen wollen\, kommen Sie zu uns ins Museum. Seit
  15 Jahren zeigen wir den jüngeren Generationen\, wie die alten Tradition
 en und Arbeitsweisen funktionieren. Im Buchdruck-Museum Hannover können S
 ie die Bleibuchstaben in die Winkelhaken setzen und eigene kleine Drucksac
 hen erstellen.\n\nKommen Sie gerne bei uns im Museum vorbei\, wir haben mi
 ttwochs von 15:00 – 18:00 Uhr geöffnet\, die ehrenamtlichen Mitglieder 
 freuen sich auf Ihren Besuch.\nWir bieten Ihnen gerne individuelle Führun
 gen ab drei Personen an. Bitte melden Sie sich dafür telefonisch (0511 
 – 22 08 253) oder via Mail (buchdruckmuseum@htp-tel.de) verbindlich an.
CATEGORIES:Vortrag, Führung, Workshop
LOCATION:Buchdruckmuseum Hannover\, Limmerstraße 43\, Hannover\, 30451\, D
 eutschland
GEO:52.373164;9.707976
X-APPLE-STRUCTURED-LOCATION;VALUE=URI;X-ADDRESS=Limmerstraße 43\, Hannover
 \, 30451\, Deutschland;X-APPLE-RADIUS=100;X-TITLE=Buchdruckmuseum Hannover
 :geo:52.373164,9.707976
END:VEVENT
BEGIN:VTIMEZONE
TZID:Europe/Berlin
X-LIC-LOCATION:Europe/Berlin
BEGIN:DAYLIGHT
DTSTART:20260329T030000
TZOFFSETFROM:+0100
TZOFFSETTO:+0200
TZNAME:CEST
END:DAYLIGHT
END:VTIMEZONE
END:VCALENDAR