BEGIN:VCALENDAR
VERSION:2.0
PRODID:-//wp-events-plugin.com//5.99912//EN
TZID:Europe/Berlin
X-WR-TIMEZONE:Europe/Berlin
BEGIN:VEVENT
UID:61177@punkt-linden.de
DTSTART;TZID=Europe/Berlin:20251218T200000
DTEND;TZID=Europe/Berlin:20251218T200000
DTSTAMP:20251109T170005Z
URL:https://punkt-linden.de/termine/beslik-rap-duesseldorf/
SUMMARY:BESLIK (Rap/Düsseldorf)
DESCRIPTION:Nachher ist nachher\, jetzt ist jetzt - und jetzt solltet ihr l
 ieber nicht drüber nachdenken\, was nachher ist\, sondern auf besliks seh
 nlichst erwarteten ersten Solo-Tour alle Blockaden hinter euch lassen und 
 die Show genießen! Auf seiner Reise durch den deutschsprachigen Kulturrau
 m wird der Düsseldorfer Straßenpoet von verschiedenen Special-Acts begle
 itet werden und dafür sorgen\, dass ihr nachher auf das zukünftig-damali
 ge jetzt zurückblickt und euch wünscht\, dass es bald wieder soweit ist.
 \nDer Chaoskünstler beslik hat im Laufe der letzten Jahre einen schwer ü
 berschaubaren Reigen an Solo-Crew- und Feature-Tracks in Welt entsandt und
  ist\, nicht zuletzt wegen seinen mitunter hoch eskalativen Liveshows - So
 lo und als Teil der Boloboys - zu einem nicht wegzudenkenden Protagonisten
  der Deutschrapszene avanciert\, ohne dabei im Geringsten an Leichtigkeit 
 einzubüßen.\nSeine mit beharrlicher Kontinuität in den Äther geschosse
 nen kreativen Auswürfe bewegen sich zwischen lakonischen Trap-Flows\, an 
 Punkrock grenzender Ignoranz\, Hyperpop-esker Eingängigkeit und anstachel
 ndem Rummelplatz-Techno - die variierenden Produktionsmittel immer eingebe
 ttet in die unverkennbaren Feder-Ergüsse besliks\, die mit den perspektiv
 ischen Wechseln zwischen inneren Vorgängen und gesellschaftlichen Betrach
 tungen passgenau die emotionale Bandbreite abbilden\, in denen sich das Le
 bensgefühl vieler junger Großstädter*innen im Zeitalter der großen Kri
 sen manifestiert\, wo im emotionalen Wirrwarr oft nur Millimeter zwischen 
 Dekadenz und Abgrund liegen.\nTickets: tba Hier Tickets bestellen
CATEGORIES:Musik, Konzert
LOCATION:Béi Chéz Heinz\, Liepmannstraße 7b\, Hannover\, 30453\, Deutsch
 land
GEO:52.37195;9.69636
X-APPLE-STRUCTURED-LOCATION;VALUE=URI;X-ADDRESS=Liepmannstraße 7b\, Hannov
 er\, 30453\, Deutschland;X-APPLE-RADIUS=100;X-TITLE=Béi Chéz Heinz:geo:5
 2.37195,9.69636
END:VEVENT
BEGIN:VTIMEZONE
TZID:Europe/Berlin
X-LIC-LOCATION:Europe/Berlin
BEGIN:STANDARD
DTSTART:20251026T020000
TZOFFSETFROM:+0200
TZOFFSETTO:+0100
TZNAME:CET
END:STANDARD
END:VTIMEZONE
END:VCALENDAR