BEGIN:VCALENDAR
VERSION:2.0
PRODID:-//wp-events-plugin.com//5.99912//EN
TZID:Europe/Berlin
X-WR-TIMEZONE:Europe/Berlin
BEGIN:VEVENT
UID:59777@punkt-linden.de
DTSTART;TZID=Europe/Berlin:20250616T200000
DTEND;TZID=Europe/Berlin:20250616T200000
DTSTAMP:20250612T160005Z
URL:https://punkt-linden.de/termine/battery-hardcore-punk-washington/
SUMMARY:BATTERY (Hardcore Punk / Washington)
DESCRIPTION:\n\n\n\n\n\nBattery... ist eine amerikanische Hardcore-/Punk-Ba
 nd aus Washington\, D.C.\, die hauptsächlich von 1990 bis 1998 aktiv war 
 und sich 2012 für eine kurze Wiedervereinigung erneut formierte. Sie tour
 ten mehrfach sowohl durch die Vereinigten Staaten als auch durch Europa un
 d veröffentlichten mehrere Alben\, darunter drei Studio-LPs. Im Jahr 2017
  kehrten sie nach Europa zurück\, um ihre ersten europäischen Konzerte s
 eit 20 Jahren zu spielen!\n\n&nbsp\;\nNach dem plötzlichen Ende von MIOZ
 ÄN war für vier der fünf Mitglieder klar\, dass Aufgeben keine Option i
 st – jedoch unter neuem Namen: ASH RETURN kombiniert klassischen Hardcor
 e der späten 80er mit Metal-Einflüssen à la IRON MAIDEN. Konsequente H
 ärte trifft auf eingängige Melodien\, wo Hardcore und Metal nahtlos vers
 chmelzen. Fette Gitarrensoli\, mitreißende Mitsingparts und vielseitige V
 ocals\, die von tiefem Grollen bis zu Dickinson-artigen Höhen reichen\, m
 achen die Band einzigartig. They call it SWORDCORE!\n\n&nbsp\;\nHometown C
 rew ist eine Hardcore-Punk-Band aus Weert\, Niederlande\, die 2014 gegrün
 det wurde. Ihr Sound kombiniert Einflüsse von Bands wie Go It Alone\, Ban
 e und Modern Life Is War. Nach diversen Veröffentlichungen tourten sie du
 rch Europa\, wobei die Rebellion Tour 2023 mit Madball\, H2O und anderen h
 ochkaräter ein Höhepunkt war. Ihre neueste Platte "All Things Considered
 " erschien im Oktober 2024.\n\n\n\n\n\n\nTickets: 23\,-€ Hier Tickets be
 stellen
CATEGORIES:Musik, Konzert
LOCATION:Béi Chéz Heinz\, Liepmannstraße 7b\, Hannover\, 30453\, Deutsch
 land
GEO:52.37195;9.69636
X-APPLE-STRUCTURED-LOCATION;VALUE=URI;X-ADDRESS=Liepmannstraße 7b\, Hannov
 er\, 30453\, Deutschland;X-APPLE-RADIUS=100;X-TITLE=Béi Chéz Heinz:geo:5
 2.37195,9.69636
END:VEVENT
BEGIN:VTIMEZONE
TZID:Europe/Berlin
X-LIC-LOCATION:Europe/Berlin
BEGIN:DAYLIGHT
DTSTART:20250330T030000
TZOFFSETFROM:+0100
TZOFFSETTO:+0200
TZNAME:CEST
END:DAYLIGHT
END:VTIMEZONE
END:VCALENDAR