BEGIN:VCALENDAR
VERSION:2.0
PRODID:-//wp-events-plugin.com//5.99912//EN
TZID:Europe/Berlin
X-WR-TIMEZONE:Europe/Berlin
BEGIN:VEVENT
UID:60472@punkt-linden.de
DTSTART;TZID=Europe/Berlin:20250903T183000
DTEND;TZID=Europe/Berlin:20250903T235900
DTSTAMP:20250827T160409Z
URL:https://punkt-linden.de/termine/back-to-balance-wellness-workout/
SUMMARY:Back to Balance - Wellness-Workout
DESCRIPTION:Deinen gesamten Körper auf entspannte Weise bewegen\, stärken
  &amp\; dehnen. Bitte Matte mitbringen.\nmittwochs 18:30 - 19:30 Uhr\n\nKu
 rs I: 03.09.-08.10.25 | 6 Termine | Gebühr: 42 €\nKurs II: 29.10.-10.12
 .25 | 7 Termine | Gebühr: 49 €\n\nVeranstaltungsort: GS Kastanienhof / 
 Raum D.009
CATEGORIES:Sport, Spiel
LOCATION:Kulturtreff Kastanienhof\, Harenberger Straße 29\, Hannover\, 304
 53\, Deutschland
GEO:52.375573;9.686165
X-APPLE-STRUCTURED-LOCATION;VALUE=URI;X-ADDRESS=Harenberger Straße 29\, Ha
 nnover\, 30453\, Deutschland;X-APPLE-RADIUS=100;X-TITLE=Kulturtreff Kastan
 ienhof:geo:52.375573,9.686165
END:VEVENT
BEGIN:VTIMEZONE
TZID:Europe/Berlin
X-LIC-LOCATION:Europe/Berlin
BEGIN:DAYLIGHT
DTSTART:20250330T030000
TZOFFSETFROM:+0100
TZOFFSETTO:+0200
TZNAME:CEST
END:DAYLIGHT
END:VTIMEZONE
END:VCALENDAR