BEGIN:VCALENDAR
VERSION:2.0
PRODID:-//wp-events-plugin.com//5.99912//EN
TZID:Europe/Berlin
X-WR-TIMEZONE:Europe/Berlin
BEGIN:VEVENT
UID:61225@punkt-linden.de
DTSTART;TZID=Europe/Berlin:20251217T120000
DTEND;TZID=Europe/Berlin:20251217T235900
DTSTAMP:20251111T185634Z
URL:https://punkt-linden.de/termine/babys-in-der-bibliothek/
SUMMARY:Babys in der Bibliothek
DESCRIPTION:Fingerspiele\, Lieder und Bücher für Krabbelkinder.\n\nAnmeld
 ung erforderlich unter (0511) 168 4 21 80 oder stadtbibliothek-linden@hann
 over-stadt.de
CATEGORIES:Für Kinder
LOCATION:Stadtbibliothek Linden\, Lindener Marktplatz 1\, Hannover\, 30449\
 , Deutschland
GEO:52.366989;9.714209
X-APPLE-STRUCTURED-LOCATION;VALUE=URI;X-ADDRESS=Lindener Marktplatz 1\, Han
 nover\, 30449\, Deutschland;X-APPLE-RADIUS=100;X-TITLE=Stadtbibliothek Lin
 den:geo:52.366989,9.714209
END:VEVENT
BEGIN:VTIMEZONE
TZID:Europe/Berlin
X-LIC-LOCATION:Europe/Berlin
BEGIN:STANDARD
DTSTART:20251026T020000
TZOFFSETFROM:+0200
TZOFFSETTO:+0100
TZNAME:CET
END:STANDARD
END:VTIMEZONE
END:VCALENDAR