BEGIN:VCALENDAR
VERSION:2.0
PRODID:-//wp-events-plugin.com//5.99912//EN
TZID:Europe/Berlin
X-WR-TIMEZONE:Europe/Berlin
BEGIN:VEVENT
UID:60151@punkt-linden.de
DTSTART;TZID=Europe/Berlin:20250729T200000
DTEND;TZID=Europe/Berlin:20250729T200000
DTSTAMP:20250726T160003Z
URL:https://punkt-linden.de/termine/authority-zero-ska-punk-arizona/
SUMMARY:AUTHORITY ZERO (Ska Punk / Arizona)
DESCRIPTION:Authority Zero\, die legendäre Ska-Punk-Band aus Mesa\, Arizon
 a wurde noch nie als "negativ" bezeichnet. Sogar während einer Pandemie h
 aben sie ihr kollektives Kinn hochgehalten\, den Kopf gesenkt und mit "Oll
 ie Ollie Oxen Free" das geschrieben\, was man als ihr Karrierealbum bezeic
 hnen könnte. Zum 30 Jährigen Bandjubiläum ist es nun an der Zeit\, sich
  zu outen und wieder man selbst zu sein\, die schweren Zeiten hinter sich 
 zu lassen und das Leben zu feiern.&nbsp\;MakeWar ist eine multikulturelle 
 Punk-Band mit Wurzeln in Venezuela\, Kolumbien und Florida. Sie haben Armu
 t und Herausforderungen überwunden\, um eines der dynamischsten Punk-Albe
 n der letzten Jahre zu erschaffen: Get It Together\, das im Februar 2019 f
 ertiggestellt wurde.&nbsp\;MakeWar steht für wütenden\, revolutionären 
 Punk in einer polarisierten Welt. Ihr Sound vereint Punk\, Emo der 2000er 
 mit Arthouse-Einflüssen und liefern den Soundtrack zur kommenden Revoluti
 on.&nbsp\;CHASER ist eine Skate-Punk-Band aus der SoCal-Szene\, inspiriert
  von Bands wie Bad Religion und NOFX. Mit eingängigen Melodien\, hymnisch
 en Refrains und energiegeladenen Live-Shows begeistern sie weltweit. Die v
 ier Freunde teilen eine tiefe Leidenschaft für Punkrock und bleiben dem k
 lassischen Sound der 90er treu. Durch internationale Tourneen und Auftritt
 e auf großen Festivals haben sie sich einen festen Platz in der Szene ges
 ichert.Tickets: 25\,-€ Hier Tickets bestellen
CATEGORIES:Musik, Konzert
LOCATION:Béi Chéz Heinz\, Liepmannstraße 7b\, Hannover\, 30453\, Deutsch
 land
GEO:52.37195;9.69636
X-APPLE-STRUCTURED-LOCATION;VALUE=URI;X-ADDRESS=Liepmannstraße 7b\, Hannov
 er\, 30453\, Deutschland;X-APPLE-RADIUS=100;X-TITLE=Béi Chéz Heinz:geo:5
 2.37195,9.69636
END:VEVENT
BEGIN:VTIMEZONE
TZID:Europe/Berlin
X-LIC-LOCATION:Europe/Berlin
BEGIN:DAYLIGHT
DTSTART:20250330T030000
TZOFFSETFROM:+0100
TZOFFSETTO:+0200
TZNAME:CEST
END:DAYLIGHT
END:VTIMEZONE
END:VCALENDAR