BEGIN:VCALENDAR
VERSION:2.0
PRODID:-//wp-events-plugin.com//5.99912//EN
TZID:Europe/Berlin
X-WR-TIMEZONE:Europe/Berlin
BEGIN:VEVENT
UID:62804@punkt-linden.de
DTSTART;TZID=Europe/Berlin:20260508T160000
DTEND;TZID=Europe/Berlin:20260508T235900
DTSTAMP:20260415T181943Z
URL:https://punkt-linden.de/termine/ausstellung-jobst-l-hirschfeld-poetry-
 slam-live-musik/
SUMMARY:Ausstellung Jobst L. Hirschfeld - Poetry Slam - Live Musik
DESCRIPTION:Vom 8. bis 10. Mai zeigt Jobst L. Hirschfeld bei ihmeKult eine 
 Auswahl seiner Arbeiten der letzten Jahre. Die Schau reicht von abstrahier
 ten Berglandschaften mit dichten Farbschichtungen bis zu Porträts\, deren
  klassische Figuren von spontanen Farbexplosionen und ironischen Spray-Ein
 schüben flankiert werden. Ernsthaftigkeit und augenzwinkernde Leichtigkei
 t verschmelzen so zu einer frischen Position zeitgenössischer Malerei mit
 ten in Hannover.\n\nEröffnung der Ausstellung 17 Uhr\nPoetry Slam ca. 18.
 30 Uhr\nLive Musik ca. 20 Uhr “Markings” Soloartist\, Funk/Indie/Soul
CATEGORIES:Ausstellung,Kleinkunst, Schauspiel,Musik, Konzert
LOCATION:ihmeKULT! e.V.\, Ihmeplatz 7E\, Hannover\, 30449\, Deutschland
GEO:52.371598;9.716444
X-APPLE-STRUCTURED-LOCATION;VALUE=URI;X-ADDRESS=Ihmeplatz 7E\, Hannover\, 3
 0449\, Deutschland;X-APPLE-RADIUS=100;X-TITLE=ihmeKULT! e.V.:geo:52.371598
 ,9.716444
END:VEVENT
BEGIN:VTIMEZONE
TZID:Europe/Berlin
X-LIC-LOCATION:Europe/Berlin
BEGIN:DAYLIGHT
DTSTART:20260329T030000
TZOFFSETFROM:+0100
TZOFFSETTO:+0200
TZNAME:CEST
END:DAYLIGHT
END:VTIMEZONE
END:VCALENDAR